BEGIN:VCALENDAR
VERSION:2.0
PRODID:-//Gruppo EDC - ECPv6.15.17.1//NONSGML v1.0//EN
CALSCALE:GREGORIAN
METHOD:PUBLISH
X-WR-CALNAME:Gruppo EDC
X-ORIGINAL-URL:https://www.edc.it
X-WR-CALDESC:Eventi per Gruppo EDC
REFRESH-INTERVAL;VALUE=DURATION:PT1H
X-Robots-Tag:noindex
X-PUBLISHED-TTL:PT1H
BEGIN:VTIMEZONE
TZID:Europe/Rome
BEGIN:DAYLIGHT
TZOFFSETFROM:+0100
TZOFFSETTO:+0200
TZNAME:CEST
DTSTART:20200329T010000
END:DAYLIGHT
BEGIN:STANDARD
TZOFFSETFROM:+0200
TZOFFSETTO:+0100
TZNAME:CET
DTSTART:20201025T010000
END:STANDARD
BEGIN:DAYLIGHT
TZOFFSETFROM:+0100
TZOFFSETTO:+0200
TZNAME:CEST
DTSTART:20210328T010000
END:DAYLIGHT
BEGIN:STANDARD
TZOFFSETFROM:+0200
TZOFFSETTO:+0100
TZNAME:CET
DTSTART:20211031T010000
END:STANDARD
BEGIN:DAYLIGHT
TZOFFSETFROM:+0100
TZOFFSETTO:+0200
TZNAME:CEST
DTSTART:20220327T010000
END:DAYLIGHT
BEGIN:STANDARD
TZOFFSETFROM:+0200
TZOFFSETTO:+0100
TZNAME:CET
DTSTART:20221030T010000
END:STANDARD
END:VTIMEZONE
BEGIN:VEVENT
DTSTART;TZID=Europe/Rome:20211217T100000
DTEND;TZID=Europe/Rome:20211217T110000
DTSTAMP:20260421T132428
CREATED:20211118T111045Z
LAST-MODIFIED:20220707T151710Z
UID:5530-1639735200-1639738800@www.edc.it
SUMMARY:Guarda qui il video - Esterometro\, Conservazione digitale e Fatturazione elettronica: novità normative dal 2022
DESCRIPTION: \nevento gratuito \nEsterometro\, Conservazione digitale e Fatturazione elettronica: novità normative dal 2022\nSe ti sei perso le nostre dirette precedenti\, NON PREOCCUPARTI! \nScropri le novità normative del 2022 per l’ ESTEROMETRO\, la CONSERVAZIONE DIGITALE e la FATTURAZIONE ELETTRONICA CON DICHIARAZIONE D’INTENTO. \n \nRiguarda la diretta webinar!\nCLICCA QUI\n\n\n 
URL:https://www.edc.it/evento/esterometro-conservazione-digitale-e-fatturazione-elettronica-novita-normative-dal-2022/
CATEGORIES:Eventi Passati
ATTACH;FMTTYPE=image/jpeg:https://www.edc.it/wp-content/uploads/2022/03/Dal-1°-ottobre-nuove-specifiche-tecniche-per-la-fattura-elettronica-.jpg
END:VEVENT
BEGIN:VEVENT
DTSTART;TZID=Europe/Rome:20211117T100000
DTEND;TZID=Europe/Rome:20211117T110000
DTSTAMP:20260421T132428
CREATED:20211028T124048Z
LAST-MODIFIED:20220708T152446Z
UID:4744-1637143200-1637146800@www.edc.it
SUMMARY:Esterometro addio - i nuovi obblighi dal 2022
DESCRIPTION: \nEsterometro addio: i nuovi obblighi dal 2022\nLa legge di Bilancio 2021 ha ridefinito la disciplina dell’esterometro\, vale a dire che a partire dal 1° gennaio 2022 dovremo dire addio all’invio trimestrale dei dati delle fatture transfrontaliere all’Agenzia delle Entrate.  \nRiguarda il webinar nella registrazione e scarica le slide qui sotto!\nGuarda qui!\nScarica qui!
URL:https://www.edc.it/evento/esterometro-addio-i-nuovi-obblighi-dal-2022-2/
CATEGORIES:Eventi Passati
ATTACH;FMTTYPE=:
END:VEVENT
BEGIN:VEVENT
DTSTART;TZID=Europe/Rome:20210924T100000
DTEND;TZID=Europe/Rome:20210924T110000
DTSTAMP:20260421T132428
CREATED:20210901T123820Z
LAST-MODIFIED:20210901T123820Z
UID:5526-1632477600-1632481200@www.edc.it
SUMMARY:Esterometro addio - i nuovi obblighi dal 2022
DESCRIPTION:Contenuto protetto.
URL:https://www.edc.it/evento/esterometro-addio-i-nuovi-obblighi-dal-2022/
CATEGORIES:Eventi Passati
END:VEVENT
BEGIN:VEVENT
DTSTART;TZID=Europe/Rome:20210708T100000
DTEND;TZID=Europe/Rome:20210708T110000
DTSTAMP:20260421T132428
CREATED:20210622T122438Z
LAST-MODIFIED:20210622T122438Z
UID:5520-1625738400-1625742000@www.edc.it
SUMMARY:MONITORAGGIO FLUSSI FINANZIARI - con DocFinance
DESCRIPTION:MONITORAGGIO FLUSSI FINANZIARI\nUna pausa caffè con DOCFINANCE! \norganizzato in collaborazione con DocFinance. \nTi racconteremo della nostra collaborazione e ti daremo tutte le informazioni su come DocFinance\, software per la gestione anticipata della tesoreria e DocCredit\, software per la gestione del credito commerciale\, siano integrati alle nostre soluzioni. \nSe ti sei perso la diretta guarda subito il video qui!! \nGUARDA QUI\n  \n\n  \n\n 
URL:https://www.edc.it/evento/monitoraggio-flussi-finanziari-con-docfinance/
CATEGORIES:Eventi Passati
ATTACH;FMTTYPE=:
END:VEVENT
BEGIN:VEVENT
DTSTART;TZID=Europe/Rome:20210628T100000
DTEND;TZID=Europe/Rome:20210628T120000
DTSTAMP:20260421T132428
CREATED:20210614T132633Z
LAST-MODIFIED:20210614T132633Z
UID:5519-1624874400-1624881600@www.edc.it
SUMMARY:PAPERLESS -  Acquisizione automatica delle fatture passive - zero errori di digitalizzazione
DESCRIPTION:Contenuto protetto.
URL:https://www.edc.it/evento/paperless-acquisizione-automatica-delle-fatture-passive-zero-errori-di-digitalizzazione/
CATEGORIES:Eventi Passati
END:VEVENT
END:VCALENDAR