BEGIN:VCALENDAR
VERSION:2.0
PRODID:-//Gruppo EDC - ECPv6.15.17.1//NONSGML v1.0//EN
CALSCALE:GREGORIAN
METHOD:PUBLISH
X-WR-CALNAME:Gruppo EDC
X-ORIGINAL-URL:https://www.edc.it
X-WR-CALDESC:Eventi per Gruppo EDC
REFRESH-INTERVAL;VALUE=DURATION:PT1H
X-Robots-Tag:noindex
X-PUBLISHED-TTL:PT1H
BEGIN:VTIMEZONE
TZID:Europe/Rome
BEGIN:DAYLIGHT
TZOFFSETFROM:+0100
TZOFFSETTO:+0200
TZNAME:CEST
DTSTART:20200329T010000
END:DAYLIGHT
BEGIN:STANDARD
TZOFFSETFROM:+0200
TZOFFSETTO:+0100
TZNAME:CET
DTSTART:20201025T010000
END:STANDARD
BEGIN:DAYLIGHT
TZOFFSETFROM:+0100
TZOFFSETTO:+0200
TZNAME:CEST
DTSTART:20210328T010000
END:DAYLIGHT
BEGIN:STANDARD
TZOFFSETFROM:+0200
TZOFFSETTO:+0100
TZNAME:CET
DTSTART:20211031T010000
END:STANDARD
BEGIN:DAYLIGHT
TZOFFSETFROM:+0100
TZOFFSETTO:+0200
TZNAME:CEST
DTSTART:20220327T010000
END:DAYLIGHT
BEGIN:STANDARD
TZOFFSETFROM:+0200
TZOFFSETTO:+0100
TZNAME:CET
DTSTART:20221030T010000
END:STANDARD
END:VTIMEZONE
BEGIN:VEVENT
DTSTART;TZID=Europe/Rome:20210804T103000
DTEND;TZID=Europe/Rome:20210804T120000
DTSTAMP:20260421T133423
CREATED:20210720T101536Z
LAST-MODIFIED:20210720T101536Z
UID:5521-1628073000-1628078400@www.edc.it
SUMMARY:EDC GAS – software destinato alle aziende che si occupano di vendita\, noleggio\, manutenzione e assistenza di bombole gas
DESCRIPTION:EDC GAS – software destinato alle aziende che si occupano di vendita\, noleggio\, manutenzione e assistenza di bombole (gas\, acetilene\, ossigeno\, elio\, arcal\, gpl\, azoto\, argon\, co2)\n  \nPrima di “allacciare le cinture” e partire\, informati con noi… progetta il dopo vacanze! \nTi aspettiamo alla nostra diretta webinar in cui ti illustreremo: \nEDC GAS\, software con moltissime funzioni legate a normative e funzionalità specifiche del settore ed è di facile integrazione con i principali gestionali aziendali. \nScopri molto di più nella nostra diretta… Ti aspettiamo! \n  \nISCRIVITI QUI
URL:https://www.edc.it/evento/edc-gas-software-destinato-alle-aziende-che-si-occupano-di-vendita-noleggio-manutenzione-e-assistenza-di-bombole-gas/
CATEGORIES:Eventi Passati
ATTACH;FMTTYPE=:
END:VEVENT
BEGIN:VEVENT
DTSTART;TZID=Europe/Rome:20210629T103000
DTEND;TZID=Europe/Rome:20210629T120000
DTSTAMP:20260421T133423
CREATED:20210527T071318Z
LAST-MODIFIED:20210527T071318Z
UID:5516-1624962600-1624968000@www.edc.it
SUMMARY:Webinar Gratuito - EDC LIFT – Software pensato per migliorare la gestione dell'assistenza tecnica degli ascensori
DESCRIPTION:EDC LIFT – software pensato per migliorare la gestione dell’assistenza tecnica degli ascensori\n  \nEDC LAB è un concetto nuovo di lavoro collettivo\, con lo scopo di portare l’utente a utilizzare gli strumenti ad un livello avanzato. \nEdc Lab presenta… EDC LIFT\, software gestionale destinato a tutte quelle aziende che si occupano della vendita\, del noleggio\, della manutenzione e dell’assistenza tecnica di ascensori. \nScopri molto di più nella nostra diretta webinar… Ti aspettiamo! \n  \nISCRIVITI QUI
URL:https://www.edc.it/evento/webinar-gratuito-edc-lift-software-pensato-per-migliorare-la-gestione-dellassistenza-tecnica-degli-ascensori/
CATEGORIES:Eventi Passati
ATTACH;FMTTYPE=:
END:VEVENT
END:VCALENDAR