BEGIN:VCALENDAR
VERSION:2.0
PRODID:-//Gruppo EDC - ECPv6.15.17.1//NONSGML v1.0//EN
CALSCALE:GREGORIAN
METHOD:PUBLISH
X-WR-CALNAME:Gruppo EDC
X-ORIGINAL-URL:https://www.edc.it
X-WR-CALDESC:Eventi per Gruppo EDC
REFRESH-INTERVAL;VALUE=DURATION:PT1H
X-Robots-Tag:noindex
X-PUBLISHED-TTL:PT1H
BEGIN:VTIMEZONE
TZID:Europe/Rome
BEGIN:DAYLIGHT
TZOFFSETFROM:+0100
TZOFFSETTO:+0200
TZNAME:CEST
DTSTART:20220327T010000
END:DAYLIGHT
BEGIN:STANDARD
TZOFFSETFROM:+0200
TZOFFSETTO:+0100
TZNAME:CET
DTSTART:20221030T010000
END:STANDARD
BEGIN:DAYLIGHT
TZOFFSETFROM:+0100
TZOFFSETTO:+0200
TZNAME:CEST
DTSTART:20230326T010000
END:DAYLIGHT
BEGIN:STANDARD
TZOFFSETFROM:+0200
TZOFFSETTO:+0100
TZNAME:CET
DTSTART:20231029T010000
END:STANDARD
BEGIN:DAYLIGHT
TZOFFSETFROM:+0100
TZOFFSETTO:+0200
TZNAME:CEST
DTSTART:20240331T010000
END:DAYLIGHT
BEGIN:STANDARD
TZOFFSETFROM:+0200
TZOFFSETTO:+0100
TZNAME:CET
DTSTART:20241027T010000
END:STANDARD
END:VTIMEZONE
BEGIN:VEVENT
DTSTART;TZID=Europe/Rome:20230303T113000
DTEND;TZID=Europe/Rome:20230303T123000
DTSTAMP:20260425T184019
CREATED:20221229T141218Z
LAST-MODIFIED:20230220T151234Z
UID:6581-1677843000-1677846600@www.edc.it
SUMMARY:EDC CARRELLI per l'assistenza tecnica su carrelli elevatori
DESCRIPTION:EDC CARRELLI\nsoftware destinato alle aziende che si occupano di vendita\, noleggio\, manutenzione e assistenza di carrelli elevatori\nScopri con noi il mondo del verticale “edc carrelli” dedicato alla tua azienda e ti mostreremo quanto può migliorare il lavoro! \nEDC CARRELLI\, software con moltissime funzioni legate a normative e funzionalità specifiche del settore e di facile integrazione con i principali gestionali aziendali. \nCon EDC CARRELLI potrete gestire in maniera intuitiva l’anagrafica dei vostri clienti con lo storico delle chiamate e degli interventi\, i contratti stipulati\, le manutenzioni programmate e l’agenda appuntamenti dei tecnici e in modo specifico il controllo e la redditività del carrello elevatore in relazione ai contratti di noleggio. \nLa sua struttura è modulare e flessibile. Ciò permettendo ad ogni tipo di azienda di personalizzare il prodotto in base alle proprie esigenze\, scegliendo tra i vari moduli presenti in esso. \n  \nScopri molto di più nel webinar gratuito di \nVENERDI’ 03 MARZO alle ore 11:30 \nIscriviti qui
URL:https://www.edc.it/evento/edc-carrelli-per-lassistenza-tecnica-su-carrelli-elevatori/
LOCATION:GoTo Webinar
CATEGORIES:EDC CARRELLI,Eventi 2023
ORGANIZER;CN="Gruppo EDC":MAILTO:info@edc.it
END:VEVENT
END:VCALENDAR