BEGIN:VCALENDAR
VERSION:2.0
PRODID:-//Gruppo EDC - ECPv6.15.17.1//NONSGML v1.0//EN
CALSCALE:GREGORIAN
METHOD:PUBLISH
X-WR-CALNAME:Gruppo EDC
X-ORIGINAL-URL:https://www.edc.it
X-WR-CALDESC:Eventi per Gruppo EDC
REFRESH-INTERVAL;VALUE=DURATION:PT1H
X-Robots-Tag:noindex
X-PUBLISHED-TTL:PT1H
BEGIN:VTIMEZONE
TZID:Europe/Rome
BEGIN:DAYLIGHT
TZOFFSETFROM:+0100
TZOFFSETTO:+0200
TZNAME:CEST
DTSTART:20230326T010000
END:DAYLIGHT
BEGIN:STANDARD
TZOFFSETFROM:+0200
TZOFFSETTO:+0100
TZNAME:CET
DTSTART:20231029T010000
END:STANDARD
BEGIN:DAYLIGHT
TZOFFSETFROM:+0100
TZOFFSETTO:+0200
TZNAME:CEST
DTSTART:20240331T010000
END:DAYLIGHT
BEGIN:STANDARD
TZOFFSETFROM:+0200
TZOFFSETTO:+0100
TZNAME:CET
DTSTART:20241027T010000
END:STANDARD
BEGIN:DAYLIGHT
TZOFFSETFROM:+0100
TZOFFSETTO:+0200
TZNAME:CEST
DTSTART:20250330T010000
END:DAYLIGHT
BEGIN:STANDARD
TZOFFSETFROM:+0200
TZOFFSETTO:+0100
TZNAME:CET
DTSTART:20251026T010000
END:STANDARD
END:VTIMEZONE
BEGIN:VEVENT
DTSTART;TZID=Europe/Rome:20241120T090000
DTEND;TZID=Europe/Rome:20241120T140000
DTSTAMP:20260422T061425
CREATED:20241106T152002Z
LAST-MODIFIED:20241107T161841Z
UID:7714-1732093200-1732111200@www.edc.it
SUMMARY:ESG: Le 3 sfere del successo aziendale
DESCRIPTION:  \n\n\n\nL’ESG rappresenta un insieme di criteri utilizzati per valutare l’impatto etico e sostenibile di un’azienda; Non solo contribuisce a un futuro più sostenibile\, ma può anche migliorare la reputazione aziendale. \nQuesto evento fisico è dedicato a tutte le aziende interessate a comprendere meglio il ruolo cruciale della sostenibilità nel contesto della competitività aziendale. \nAttraverso una serie di interventi\, esploreremo tutte le sfere della sostenibilità. Discuteremo di come migliorare la reputazione aziendale\, attrarre investimenti e fidelizzare i clienti. \nDove? \nAgriturismo LA MACINA\nVia Beato Michele Carcano 1 a Bregnano (CO)\n  \nQuando? \nMERCOLEDI’ 20 NOVEMBRE dalle ore 09:00 alle ore 14:00\n  \nPer conoscere i relatori e il programma scarica il PDF: ESG Consulenti \n  \nCompila il form\, partecipa all’evento esclusivo e non perderti l’occasione di approfondire le conoscenze sulla sostenibilità aziendale. \nNome *Cognome *Email *Azienda *Telefono *Ruolo in azienda *Informativa Privacy *Dichiaro di aver preso visione dell'Informativa privacy ed autorizzo il trattamento dei miei dati personali.reCaptcha MessageIscriviti ora\n  \n  \n 
URL:https://www.edc.it/evento/esg-le-3-sfere-del-successo-aziendale/
LOCATION:bregnano
CATEGORIES:Eventi 2024
ATTACH;FMTTYPE=image/png:https://www.edc.it/wp-content/uploads/2024/11/instant-2.png
ORGANIZER;CN="Gruppo EDC":MAILTO:info@edc.it
END:VEVENT
BEGIN:VEVENT
DTSTART;TZID=Europe/Rome:20241121T103000
DTEND;TZID=Europe/Rome:20241121T113000
DTSTAMP:20260422T061425
CREATED:20240829T073105Z
LAST-MODIFIED:20240902T071215Z
UID:7588-1732185000-1732188600@www.edc.it
SUMMARY:Ottimizza il lavoro con EDC LIFT
DESCRIPTION:software destinato alle aziende che si occupano di interventi di manutenzione ed assistenza tecnica su ascensori\nScopri come EDC LIFT può rivoluzionare la gestione della tua azienda con le sue numerose funzionalità specifiche e normative del settore. Il nostro software si integra facilmente con i principali gestionali aziendali\, rendendo il tuo lavoro più semplice e efficiente. \nLa sua struttura è modulare e flessibile. Ciò permette ad ogni tipo di azienda di personalizzare il prodotto in base alle proprie esigenze\, scegliendo tra i vari moduli presenti in esso. \nNon perdere l’opportunità di scoprire tutte le potenzialità di EDC LIFT \nGIOVEDI’ 21 NOVEMBRE alle ore 10:30\nIscriviti qui\n  \n  \n 
URL:https://www.edc.it/evento/ottimizza-il-lavoro-con-edc-lift/
LOCATION:GoTo Webinar
CATEGORIES:EDC LIFT,Eventi 2024
ORGANIZER;CN="Gruppo EDC":MAILTO:info@edc.it
END:VEVENT
END:VCALENDAR