BEGIN:VCALENDAR
VERSION:2.0
PRODID:-//Gruppo EDC - ECPv6.15.17.1//NONSGML v1.0//EN
CALSCALE:GREGORIAN
METHOD:PUBLISH
X-ORIGINAL-URL:https://www.edc.it
X-WR-CALDESC:Eventi per Gruppo EDC
REFRESH-INTERVAL;VALUE=DURATION:PT1H
X-Robots-Tag:noindex
X-PUBLISHED-TTL:PT1H
BEGIN:VTIMEZONE
TZID:Europe/Rome
BEGIN:DAYLIGHT
TZOFFSETFROM:+0100
TZOFFSETTO:+0200
TZNAME:CEST
DTSTART:20200329T010000
END:DAYLIGHT
BEGIN:STANDARD
TZOFFSETFROM:+0200
TZOFFSETTO:+0100
TZNAME:CET
DTSTART:20201025T010000
END:STANDARD
BEGIN:DAYLIGHT
TZOFFSETFROM:+0100
TZOFFSETTO:+0200
TZNAME:CEST
DTSTART:20210328T010000
END:DAYLIGHT
BEGIN:STANDARD
TZOFFSETFROM:+0200
TZOFFSETTO:+0100
TZNAME:CET
DTSTART:20211031T010000
END:STANDARD
BEGIN:DAYLIGHT
TZOFFSETFROM:+0100
TZOFFSETTO:+0200
TZNAME:CEST
DTSTART:20220327T010000
END:DAYLIGHT
BEGIN:STANDARD
TZOFFSETFROM:+0200
TZOFFSETTO:+0100
TZNAME:CET
DTSTART:20221030T010000
END:STANDARD
END:VTIMEZONE
BEGIN:VEVENT
DTSTART;TZID=Europe/Rome:20210429T110000
DTEND;TZID=Europe/Rome:20210429T123000
DTSTAMP:20260421T121306
CREATED:20210331T151439Z
LAST-MODIFIED:20230214T093759Z
UID:4306-1619694000-1619699400@www.edc.it
SUMMARY:Ad Hoc Revolution Web
DESCRIPTION:Webinar gratuito\nPARTECIPA ANCHE TU AL WEBINAR GRATUITO\nAdHoc Revolution Web L’evoluzione del gestionale aziendale ..oggi è realtà Per chi vuole il meglio   \n\n\n\n\n\n \nAd Hoc Revolution Web\, Obbiettivo Innovazione\nUn gestionale a misura di azienda..la TUA Ad Hoc Revolution Web è la soluzione Zucchetti. di nuova generazione progettata e sviluppata per piccole e medie imprese: basata interamente su tecnologia Infinity 4.0 è accessibile in qualunque momento e da qualsiasi dispositivo   \nPer iscriversi al Webinar Clicca Qui!
URL:https://www.edc.it/evento/webinar-gratuito-ad-hoc-revolution-web-parte2/
CATEGORIES:AD HOC REVOLUTION WEB,Eventi Passati
ATTACH;FMTTYPE=image/jpeg:https://www.edc.it/wp-content/uploads/2017/09/gruppo-edc-partner-rivenditore-software-gestionali-aziendali.jpg
END:VEVENT
BEGIN:VEVENT
DTSTART;TZID=Europe/Rome:20210429T110000
DTEND;TZID=Europe/Rome:20210429T123000
DTSTAMP:20260421T121306
CREATED:20210331T151439Z
LAST-MODIFIED:20230214T093106Z
UID:5512-1619694000-1619699400@www.edc.it
SUMMARY:Webinar Gratuito - Ad Hoc Revolution Web
DESCRIPTION:Webinar gratuito\nPARTECIPA ANCHE TU AL WEBINAR GRATUITO\nAdHoc Revolution Web L’evoluzione del gestionale aziendale ..oggi è realtà Per chi vuole il meglio   \n\n\n\n\n\n \nAd Hoc Revolution Web\, Obbiettivo Innovazione\nUn gestionale a misura di azienda..la TUA Ad Hoc Revolution Web è la soluzione Zucchetti. di nuova generazione progettata e sviluppata per piccole e medie imprese: basata interamente su tecnologia Infinity 4.0 è accessibile in qualunque momento e da qualsiasi dispositivo   \nPer iscriversi al Webinar Clicca Qui!
URL:https://www.edc.it/evento/webinar-gratuito-ad-hoc-revolution-web-2021/
CATEGORIES:AD HOC REVOLUTION WEB,Eventi Passati
ATTACH;FMTTYPE=image/jpeg:https://www.edc.it/wp-content/uploads/2017/09/gruppo-edc-partner-rivenditore-software-gestionali-aziendali.jpg
END:VEVENT
END:VCALENDAR