BEGIN:VCALENDAR
VERSION:2.0
PRODID:-//Gruppo EDC - ECPv6.15.17.1//NONSGML v1.0//EN
CALSCALE:GREGORIAN
METHOD:PUBLISH
X-WR-CALNAME:Gruppo EDC
X-ORIGINAL-URL:https://www.edc.it
X-WR-CALDESC:Eventi per Gruppo EDC
REFRESH-INTERVAL;VALUE=DURATION:PT1H
X-Robots-Tag:noindex
X-PUBLISHED-TTL:PT1H
BEGIN:VTIMEZONE
TZID:Europe/Rome
BEGIN:DAYLIGHT
TZOFFSETFROM:+0100
TZOFFSETTO:+0200
TZNAME:CEST
DTSTART:20240331T010000
END:DAYLIGHT
BEGIN:STANDARD
TZOFFSETFROM:+0200
TZOFFSETTO:+0100
TZNAME:CET
DTSTART:20241027T010000
END:STANDARD
BEGIN:DAYLIGHT
TZOFFSETFROM:+0100
TZOFFSETTO:+0200
TZNAME:CEST
DTSTART:20250330T010000
END:DAYLIGHT
BEGIN:STANDARD
TZOFFSETFROM:+0200
TZOFFSETTO:+0100
TZNAME:CET
DTSTART:20251026T010000
END:STANDARD
BEGIN:DAYLIGHT
TZOFFSETFROM:+0100
TZOFFSETTO:+0200
TZNAME:CEST
DTSTART:20260329T010000
END:DAYLIGHT
BEGIN:STANDARD
TZOFFSETFROM:+0200
TZOFFSETTO:+0100
TZNAME:CET
DTSTART:20261025T010000
END:STANDARD
END:VTIMEZONE
BEGIN:VEVENT
DTSTART;TZID=Europe/Rome:20250328T140000
DTEND;TZID=Europe/Rome:20250328T180000
DTSTAMP:20260420T083219
CREATED:20250303T102943Z
LAST-MODIFIED:20250331T131042Z
UID:7887-1743170400-1743184800@www.edc.it
SUMMARY:Transizione 5.0: Il futuro tra digitale e sostenibilità - Monza
DESCRIPTION:Partecipa all’evento fisico e scopri tutto quello che devi sapere per ottenere specifici incentivi\, da investire in nuove tecnologie\, sostenibilità e formazione. \n📅 Data: 28 Marzo 2025\n📍 Luogo: Monza – Viale Elvezia 4\, Hotel Helios\n⏰ Orario: 14:00 – 18:00 \n🚀 Un’opportunità imperdibile!\nScopri come accedere agli incentivi per la Transizione 5.0\, Formazione Finanziata e percorso ESG\, con esperti del settore che ti guideranno attraverso le ultime novità e strategie pratiche. Inoltre\, approfondiremo NIS2\, la nuova direttiva europea sulla sicurezza informatica\, e il suo impatto sulle aziende. \nScarica qui il programma dell’evento\, per scoprire tutti gli argomenti trattati e i relatori! \nPerché partecipare?\n✅ Approfondisci le agevolazioni disponibili\n✅ Scopri come implementare strategie digitali e sostenibili\n✅ Confrontati con esperti e ottieni risposte concrete \nIscriviti subito \nNome *Cognome *Email *Azienda *Telefono *Informativa Privacy *Dichiaro di aver preso visione dell'Informativa privacy ed autorizzo il trattamento dei miei dati personali.reCaptcha MessageIscriviti ora
URL:https://www.edc.it/evento/transizione-5-0-il-futuro-tra-digitale-e-sostenibilita-2/
CATEGORIES:Eventi Passati
ATTACH;FMTTYPE=image/png:https://www.edc.it/wp-content/uploads/2025/02/COPERTINE-SITO-4.png
END:VEVENT
END:VCALENDAR