BEGIN:VCALENDAR
VERSION:2.0
PRODID:-//Gruppo EDC - ECPv6.15.17.1//NONSGML v1.0//EN
CALSCALE:GREGORIAN
METHOD:PUBLISH
X-ORIGINAL-URL:https://www.edc.it
X-WR-CALDESC:Eventi per Gruppo EDC
REFRESH-INTERVAL;VALUE=DURATION:PT1H
X-Robots-Tag:noindex
X-PUBLISHED-TTL:PT1H
BEGIN:VTIMEZONE
TZID:Europe/Rome
BEGIN:DAYLIGHT
TZOFFSETFROM:+0100
TZOFFSETTO:+0200
TZNAME:CEST
DTSTART:20240331T010000
END:DAYLIGHT
BEGIN:STANDARD
TZOFFSETFROM:+0200
TZOFFSETTO:+0100
TZNAME:CET
DTSTART:20241027T010000
END:STANDARD
BEGIN:DAYLIGHT
TZOFFSETFROM:+0100
TZOFFSETTO:+0200
TZNAME:CEST
DTSTART:20250330T010000
END:DAYLIGHT
BEGIN:STANDARD
TZOFFSETFROM:+0200
TZOFFSETTO:+0100
TZNAME:CET
DTSTART:20251026T010000
END:STANDARD
BEGIN:DAYLIGHT
TZOFFSETFROM:+0100
TZOFFSETTO:+0200
TZNAME:CEST
DTSTART:20260329T010000
END:DAYLIGHT
BEGIN:STANDARD
TZOFFSETFROM:+0200
TZOFFSETTO:+0100
TZNAME:CET
DTSTART:20261025T010000
END:STANDARD
END:VTIMEZONE
BEGIN:VEVENT
DTSTART;TZID=Europe/Rome:20250227T103000
DTEND;TZID=Europe/Rome:20250227T113000
DTSTAMP:20260420T101158
CREATED:20250131T141738Z
LAST-MODIFIED:20250401T153927Z
UID:7848-1740652200-1740655800@www.edc.it
SUMMARY:Proteggi i tuoi dati aziendali con Cloud Backup
DESCRIPTION:La sicurezza dei dati aziendali è una priorità fondamentale per ogni impresa moderna. Partecipa al nostro webinar e scopri come la soluzione Cloud Backup possa proteggere le informazioni critiche del tuo business\, garantendo continuità operativa. \nPartecipa all’evento per scoprire i vantaggi di questa soluzione:\nBackup automatico e continuo: elimina il rischio di perdita di dati.\nAccessibilità totale: ripristina i tuoi dati ovunque e in qualsiasi momento.\nMassima sicurezza: protezione avanzata con standard elevati di crittografia.\nScalabilità su misura: una soluzione che cresce con le esigenze della tua azienda. \nProteggi il cuore del tuo business mettendo al sicuro i tuoi dati aziendali e riduci rischi e tempi di inattività.\nIscriviti subito: non aspettare un’emergenza per mettere al sicuro la tua azienda! \nGiovedì 27 Febbraio ore 10:30\nRegistrati qui
URL:https://www.edc.it/evento/proteggi-i-tuoi-dati-aziendali-con-cloud-backup/
CATEGORIES:Eventi Passati
ATTACH;FMTTYPE=image/png:https://www.edc.it/wp-content/uploads/2025/01/instant-5.png
END:VEVENT
BEGIN:VEVENT
DTSTART;TZID=Europe/Rome:20250307T103000
DTEND;TZID=Europe/Rome:20250307T120000
DTSTAMP:20260420T101158
CREATED:20250204T093809Z
LAST-MODIFIED:20250401T153848Z
UID:7856-1741343400-1741348800@www.edc.it
SUMMARY:Corso di formazione: ChatGPT e Intelligenza Artificiale per il tuo Business
DESCRIPTION:Corso di formazione:\nChatGPT e Intelligenza Artificiale per il tuo Business\nNon perderti un’opportunità unica per acquisire competenze nell’ambito dell’IA e scoprire come sfruttare al meglio ChatGPT per migliorare le tue attività.  \nDurante il corso verranno trattati i seguenti argomenti:  \nLe basi dell’Intelligenza Artificiale \nStruttura di ChatGPT \nLe ultime novità \nCreazione di un utente in ChatGPT \nStrategie per ottimizzare l’interazione con l’IA \nEsempi dell’utilizzo di ChatGPT \nLet’s get to work! esercizi pratici \n  \nIl corso di formazione ha un costo di € 90\,00 a persona. \nPartecipa per acquisire competenze di alto livello nell’ambito dell’IA e per imparare ad utilizzare ChatGPT in modo efficace anche all’interno della tua azienda!  \nInteragisci con un esperto in materia di Intelligenza Artificiale\, condividi le tue esperienze\, prova ad utilizzare ChatGPT e scopri il futuro della tecnologia! \n  \nIscriviti subito al corso di formazione compilando il form\, i posti sono limitati! \nVenerdì 07 Marzo | ore 10:30 – 12:00\nNome *Cognome *Email *Azienda *Telefono *Partita IVA *Ruolo in azienda *Città *Informativa Privacy *Dichiaro di aver preso visione dell'Informativa privacy ed autorizzo il trattamento dei miei dati personali.reCaptcha WebsiteIscriviti ora
URL:https://www.edc.it/evento/corso-di-formazione-chatgpt-e-intelligenza-artificiale-per-il-tuo-business/
CATEGORIES:Eventi Passati
ATTACH;FMTTYPE=image/png:https://www.edc.it/wp-content/uploads/2025/02/ChatGPT_Business_Course_Invite_528x313.png
ORGANIZER;CN="Gruppo EDC":MAILTO:info@edc.it
END:VEVENT
BEGIN:VEVENT
DTSTART;TZID=Europe/Rome:20250328T140000
DTEND;TZID=Europe/Rome:20250328T180000
DTSTAMP:20260420T101158
CREATED:20250303T102943Z
LAST-MODIFIED:20250331T131042Z
UID:7887-1743170400-1743184800@www.edc.it
SUMMARY:Transizione 5.0: Il futuro tra digitale e sostenibilità - Monza
DESCRIPTION:Partecipa all’evento fisico e scopri tutto quello che devi sapere per ottenere specifici incentivi\, da investire in nuove tecnologie\, sostenibilità e formazione. \n📅 Data: 28 Marzo 2025\n📍 Luogo: Monza – Viale Elvezia 4\, Hotel Helios\n⏰ Orario: 14:00 – 18:00 \n🚀 Un’opportunità imperdibile!\nScopri come accedere agli incentivi per la Transizione 5.0\, Formazione Finanziata e percorso ESG\, con esperti del settore che ti guideranno attraverso le ultime novità e strategie pratiche. Inoltre\, approfondiremo NIS2\, la nuova direttiva europea sulla sicurezza informatica\, e il suo impatto sulle aziende. \nScarica qui il programma dell’evento\, per scoprire tutti gli argomenti trattati e i relatori! \nPerché partecipare?\n✅ Approfondisci le agevolazioni disponibili\n✅ Scopri come implementare strategie digitali e sostenibili\n✅ Confrontati con esperti e ottieni risposte concrete \nIscriviti subito \nNome *Cognome *Email *Azienda *Telefono *Informativa Privacy *Dichiaro di aver preso visione dell'Informativa privacy ed autorizzo il trattamento dei miei dati personali.reCaptcha PhoneIscriviti ora
URL:https://www.edc.it/evento/transizione-5-0-il-futuro-tra-digitale-e-sostenibilita-2/
CATEGORIES:Eventi Passati
ATTACH;FMTTYPE=image/png:https://www.edc.it/wp-content/uploads/2025/02/COPERTINE-SITO-4.png
END:VEVENT
END:VCALENDAR