BEGIN:VCALENDAR
VERSION:2.0
PRODID:-//Gruppo EDC - ECPv6.15.17.1//NONSGML v1.0//EN
CALSCALE:GREGORIAN
METHOD:PUBLISH
X-WR-CALNAME:Gruppo EDC
X-ORIGINAL-URL:https://www.edc.it
X-WR-CALDESC:Eventi per Gruppo EDC
REFRESH-INTERVAL;VALUE=DURATION:PT1H
X-Robots-Tag:noindex
X-PUBLISHED-TTL:PT1H
BEGIN:VTIMEZONE
TZID:Europe/Rome
BEGIN:DAYLIGHT
TZOFFSETFROM:+0100
TZOFFSETTO:+0200
TZNAME:CEST
DTSTART:20250330T010000
END:DAYLIGHT
BEGIN:STANDARD
TZOFFSETFROM:+0200
TZOFFSETTO:+0100
TZNAME:CET
DTSTART:20251026T010000
END:STANDARD
BEGIN:DAYLIGHT
TZOFFSETFROM:+0100
TZOFFSETTO:+0200
TZNAME:CEST
DTSTART:20260329T010000
END:DAYLIGHT
BEGIN:STANDARD
TZOFFSETFROM:+0200
TZOFFSETTO:+0100
TZNAME:CET
DTSTART:20261025T010000
END:STANDARD
BEGIN:DAYLIGHT
TZOFFSETFROM:+0100
TZOFFSETTO:+0200
TZNAME:CEST
DTSTART:20270328T010000
END:DAYLIGHT
BEGIN:STANDARD
TZOFFSETFROM:+0200
TZOFFSETTO:+0100
TZNAME:CET
DTSTART:20271031T010000
END:STANDARD
END:VTIMEZONE
BEGIN:VEVENT
DTSTART;TZID=Europe/Rome:20260219T110000
DTEND;TZID=Europe/Rome:20260219T120000
DTSTAMP:20260421T121523
CREATED:20260115T100000Z
LAST-MODIFIED:20260119T143351Z
UID:8106-1771498800-1771502400@www.edc.it
SUMMARY:Cloud: Sicurezza e Continuità per la Tua Azienda
DESCRIPTION:La sicurezza dei dati aziendali è una priorità fondamentale per ogni impresa moderna. \nPartecipa al nostrowebinar e scopri come la soluzione Cloud possa proteggere le informazioni critiche del tuo business\, garantendo continuità operativa. \nVuoi scoprire il vero valore del Cloud? \nVuoi scoprire come proteggere la tua azienda? \nProteggi il cuore del tuo business mettendo al sicuro i tuoi dati aziendali e riduci rischi e tempi di inattività.\nIscriviti subito: non aspettare un’emergenza per mettere al sicuro la tua azienda! \nGiovedì 19 Febbraio ore 11:00\nRegistrati qui
URL:https://www.edc.it/evento/backup-cloud-sicurezza-e-continuit-per-la-tua-azienda/
CATEGORIES:Eventi 2026
ATTACH;FMTTYPE=image/png:https://www.edc.it/wp-content/uploads/2025/01/instant-5.png
END:VEVENT
END:VCALENDAR