BEGIN:VCALENDAR
VERSION:2.0
PRODID:-//Gruppo EDC - ECPv6.15.17.1//NONSGML v1.0//EN
CALSCALE:GREGORIAN
METHOD:PUBLISH
X-ORIGINAL-URL:https://www.edc.it
X-WR-CALDESC:Eventi per Gruppo EDC
REFRESH-INTERVAL;VALUE=DURATION:PT1H
X-Robots-Tag:noindex
X-PUBLISHED-TTL:PT1H
BEGIN:VTIMEZONE
TZID:Europe/Rome
BEGIN:DAYLIGHT
TZOFFSETFROM:+0100
TZOFFSETTO:+0200
TZNAME:CEST
DTSTART:20250330T010000
END:DAYLIGHT
BEGIN:STANDARD
TZOFFSETFROM:+0200
TZOFFSETTO:+0100
TZNAME:CET
DTSTART:20251026T010000
END:STANDARD
BEGIN:DAYLIGHT
TZOFFSETFROM:+0100
TZOFFSETTO:+0200
TZNAME:CEST
DTSTART:20260329T010000
END:DAYLIGHT
BEGIN:STANDARD
TZOFFSETFROM:+0200
TZOFFSETTO:+0100
TZNAME:CET
DTSTART:20261025T010000
END:STANDARD
BEGIN:DAYLIGHT
TZOFFSETFROM:+0100
TZOFFSETTO:+0200
TZNAME:CEST
DTSTART:20270328T010000
END:DAYLIGHT
BEGIN:STANDARD
TZOFFSETFROM:+0200
TZOFFSETTO:+0100
TZNAME:CET
DTSTART:20271031T010000
END:STANDARD
END:VTIMEZONE
BEGIN:VEVENT
DTSTART;TZID=Europe/Rome:20260129T110000
DTEND;TZID=Europe/Rome:20260129T120000
DTSTAMP:20260421T134131
CREATED:20260113T102900Z
LAST-MODIFIED:20260113T112330Z
UID:8095-1769684400-1769688000@www.edc.it
SUMMARY:Scopri il futuro degli impianti con EDC Impianti
DESCRIPTION:Edc Impianti è il software gestionale adatto per tutte le aziende che si occupano di manutenzione e assistenza tecnica su ogni genere di impianti. \nCon questo software vengono gestite facilmente le anagrafiche\, gli interventi\, i contratti\, le manutenzioni programmate dei tecnici e molto altro grazie alla Gestione CRM\, Gestione Assistenza e Gestione Tecnici / Operatori. \nGestione CRM: Gestisce le anagrafiche\, dettagli clienti e contratti \nGestione Assistenza: Gestisce i ticket\, gli interventi e monitora i materiali in scadenza \nGestione Tecnici: Gestisce gli appuntamenti di assistenza\, il magazzino e le assistenze periodiche \nC’è anche la possibilità di collegare l’applicazione\, sviluppata da Gruppo Edc\, Mobi-Ta\, che consente ai tecnici di tenere traccia del proprio lavoro\, quindi di poter accedere ovunque agli interventi da effettuare\, in tempo reale. Il tecnico avrà a sua disposizione i dati relativi ai clienti\, agli impianti\, agli interventi\, al magazzino viaggiante… \nPartecipa al webinar gratuito Edc Impianti – Efficienza totale\, per scoprire molte altre informazioni! \nGiovedì 29 Gennaio | ore 11:00 – 12:00\nIscriviti qui gratuitamente
URL:https://www.edc.it/evento/scopri-il-futuro-degli-impianti-con-edc-impianti/
CATEGORIES:Eventi 2026
END:VEVENT
END:VCALENDAR