BEGIN:VCALENDAR
VERSION:2.0
PRODID:-//Gruppo EDC - ECPv6.15.17.1//NONSGML v1.0//EN
CALSCALE:GREGORIAN
METHOD:PUBLISH
X-WR-CALNAME:Gruppo EDC
X-ORIGINAL-URL:https://www.edc.it
X-WR-CALDESC:Eventi per Gruppo EDC
REFRESH-INTERVAL;VALUE=DURATION:PT1H
X-Robots-Tag:noindex
X-PUBLISHED-TTL:PT1H
BEGIN:VTIMEZONE
TZID:Europe/Rome
BEGIN:DAYLIGHT
TZOFFSETFROM:+0100
TZOFFSETTO:+0200
TZNAME:CEST
DTSTART:20240331T010000
END:DAYLIGHT
BEGIN:STANDARD
TZOFFSETFROM:+0200
TZOFFSETTO:+0100
TZNAME:CET
DTSTART:20241027T010000
END:STANDARD
BEGIN:DAYLIGHT
TZOFFSETFROM:+0100
TZOFFSETTO:+0200
TZNAME:CEST
DTSTART:20250330T010000
END:DAYLIGHT
BEGIN:STANDARD
TZOFFSETFROM:+0200
TZOFFSETTO:+0100
TZNAME:CET
DTSTART:20251026T010000
END:STANDARD
BEGIN:DAYLIGHT
TZOFFSETFROM:+0100
TZOFFSETTO:+0200
TZNAME:CEST
DTSTART:20260329T010000
END:DAYLIGHT
BEGIN:STANDARD
TZOFFSETFROM:+0200
TZOFFSETTO:+0100
TZNAME:CET
DTSTART:20261025T010000
END:STANDARD
END:VTIMEZONE
BEGIN:VEVENT
DTSTART;TZID=Europe/Rome:20250515T103000
DTEND;TZID=Europe/Rome:20250515T113000
DTSTAMP:20260421T121241
CREATED:20250411T091218Z
LAST-MODIFIED:20250411T091218Z
UID:7933-1747305000-1747308600@www.edc.it
SUMMARY:Semplifica le tue finanze con DocFinance
DESCRIPTION:Desideri un’ integrazione semplice ed efficace tra il tuo sistema contabile e le banche? \nAvrai l’occasione di conoscere\, insieme ai consulenti di DocFinance\, lo strumento N.1 in Italia per la gestione della Tesoreria e dei Flussi Finanziari\, e ascoltare le testimonianze di chi già lo utilizza. \nGruppo EDC Srl e DocFinance organizzano un breve webinar gratuito per illustrarti le principali funzionalità del software di tesoreria già utilizzato da oltre 4.500 aziende italiane. \nGIOVEDI’ 15 MAGGIO 2025 alle ore 10:30 \nISCRIVITI QUI \nDocFinance è un software di finanza di impresa pienamente integrato con il tuo ERP e con il sistema bancario italiano ed internazionale\, che consente di: \n\n\n\n\nAutomatizzare i processi di incasso e pagamento\nRiconciliare automaticamente i movimenti bancari ed ottenere la prima nota\nAvere sempre aggiornate anagrafiche e scadenzari di clienti e fornitori\nGestire più banche direttamente dal software e monitorare le condizioni bancarie applicate\nOttenere il cash flow consuntivo e previsionale della tua azienda in tempo reale\nConoscere in anticipo il reale fabbisogno finanziario dell’azienda
URL:https://www.edc.it/evento/semplifica-le-tue-finanze-con-docfinance/
CATEGORIES:Eventi 2025
ATTACH;FMTTYPE=image/png:https://www.edc.it/wp-content/uploads/2025/04/download.png
END:VEVENT
BEGIN:VEVENT
DTSTART;TZID=Europe/Rome:20250509T103000
DTEND;TZID=Europe/Rome:20250509T113000
DTSTAMP:20260421T121241
CREATED:20250422T070315Z
LAST-MODIFIED:20250422T070813Z
UID:7942-1746786600-1746790200@www.edc.it
SUMMARY:Ottimizzare la sicurezza antincendio con Edc Fire
DESCRIPTION: EDC FIRE\nSoftware per la gestione dell’assistenza tecnica su estintori e impianti antincendio \nNato da Gruppo EDC\, EDC FIRE è il software gestionale che permette a tutte le aziende di gestire i ticket\, gli interventi\, il rendimento degli estintori\, i componenti in scadenza\, il parco macchine\, lo storico degli interventi\, i contratti e la fatturazione. \nSpecifico per la sezione FIRE è la pianificazione nel tempo di risorse e procedure di controllo legate a normative obbligatorie per Legge. \nScarica la Brochure\n  \nScopri di più nel webinar gratuito\nVENERDI’ 09 MAGGIO alle ore 10:30\nIscriviti qui
URL:https://www.edc.it/evento/ottimizzare-la-sicurezza-antincendio-con-edc-fire/
LOCATION:GoTo Webinar
CATEGORIES:EDC FIRE,Eventi 2025
ATTACH;FMTTYPE=image/jpeg:https://www.edc.it/wp-content/uploads/2017/07/edc-fire-software-gestionale-ditte-installazione-manutenzione-estintori-impianti-antincendio.jpg
ORGANIZER;CN="Gruppo EDC":MAILTO:info@edc.it
END:VEVENT
BEGIN:VEVENT
DTSTART;TZID=Europe/Rome:20250417T103000
DTEND;TZID=Europe/Rome:20250417T113000
DTSTAMP:20260421T121241
CREATED:20250411T090543Z
LAST-MODIFIED:20250411T090543Z
UID:7930-1744885800-1744889400@www.edc.it
SUMMARY:Edc Carrelli - Innovazione nella manutenzione e noleggio dei carrelli elevatori
DESCRIPTION:Partecipa all’evento gratuito\, ti mostreremo come funziona e come è strutturato il nostro software verticale Edc Carrelli. \nSoftware gestionale realizzato per tutte quelle aziende che effettuano assistenza tecnica\, noleggio e vendita di carrelli elevatori e piattaforme aeree. \nLa struttura di EDC CARRELLI è modulare e flessibile\, permettendo ad ogni tipo di azienda di personalizzare il prodotto in base alle proprie esigenze\, scegliendo tra i vari moduli presenti in esso. \nGIOVEDI’ 17 APRILE alle ore 10:30\nIscriviti qui
URL:https://www.edc.it/evento/edc-carrelli-innovazione-nella-manutenzione-e-noleggio-dei-carrelli-elevatori/
CATEGORIES:EDC CARRELLI,Eventi 2025
ATTACH;FMTTYPE=image/png:https://www.edc.it/wp-content/uploads/2025/04/carrelli.png
END:VEVENT
BEGIN:VEVENT
DTSTART;TZID=Europe/Rome:20250410T110000
DTEND;TZID=Europe/Rome:20250410T120000
DTSTAMP:20260421T121241
CREATED:20250403T152556Z
LAST-MODIFIED:20250404T081501Z
UID:7923-1744282800-1744286400@www.edc.it
SUMMARY:Come ci si adegua all'assetto anti-crisi? Digital CFO: obbligo sulla crisi d'impresa
DESCRIPTION:Obbligo adeguati assetti: gestire il cash-flow non è mai stato così semplice! \nCon il deposito  del bilancio\, tutti gli amministratori devono dichiarare di aver adottato gli assetti anti-crisi previsti dalla legge. \nL’assenza di tale dichiarazione può comportare gravi conseguenze per amministratori e azienda. Nel nostro webinar scoprirai come i nuovi strumenti automatici di Digital CFO ti aiutano a prevedere i flussi di cassa\, a rendere immediata la conformità normativa e a condividere in un clic i report anti-crisi in caso di controlli dei revisori. \nObiettivi \nIl webinar vuole fornire soluzioni pratiche per rendere la gestione finanziaria più efficiente e a prova di compliance. In particolare vedremo come lo strumento Digital CFO permette di automatizzare i processi e perchè un adeguato assetto finanziario è essenziale per evitare sanzioni. \nIscriviti per partecipare al webinar gratuito su Digital CFO\nGIOVEDI’ 10 APRILE alle ore 11:00\nISCRIVITI QUI
URL:https://www.edc.it/evento/come-ci-si-adegua-allassetto-anti-crisi-digital-cfo-obbligo-sulla-crisi-dimpresa/
CATEGORIES:Eventi 2025
END:VEVENT
BEGIN:VEVENT
DTSTART;TZID=Europe/Rome:20250331T131800
DTEND;TZID=Europe/Rome:20250331T131800
DTSTAMP:20260421T121241
CREATED:20250227T095036Z
LAST-MODIFIED:20250401T154329Z
UID:7874-1743427080-1743427080@www.edc.it
SUMMARY:Transizione 5.0: Il futuro tra digitale e sostenibilità - Brescia e Monza
DESCRIPTION:Scopri tutto quello che devi sapere per ottenere specifici incentivi\, da investire in nuove tecnologie\, sostenibilità e formazione con la Transizione 5.0\, la formazione finanziata\, gli innumerevoli bandi a disposizione e il percorso ESG. \nSCARICA QUI LA PRESENTAZIONE DELL’EVENTO DEGLI ESPERTI! \nNome *Email *Azienda *Informativa Privacy *Dichiaro di aver preso visione dell'Informativa privacy ed autorizzo il trattamento dei miei dati personali.reCaptcha NameScarica le slide
URL:https://www.edc.it/evento/transizione-5-0-il-futuro-tra-digitale-e-sostenibilita/
CATEGORIES:Eventi 2025
ATTACH;FMTTYPE=image/png:https://www.edc.it/wp-content/uploads/2025/02/COPERTINE-SITO-4.png
END:VEVENT
BEGIN:VEVENT
DTSTART;TZID=Europe/Rome:20250220T160000
DTEND;TZID=Europe/Rome:20250220T173000
DTSTAMP:20260421T121241
CREATED:20250211T085939Z
LAST-MODIFIED:20250211T090043Z
UID:7862-1740067200-1740072600@www.edc.it
SUMMARY:NIS2 & ISO 27001 Adeguarsi entro la scadenza del 28 febbraio
DESCRIPTION:La Direttiva NIS 2 rappresenta un cambiamento significativo per la sicurezza informatica\, imponendo nuovi requisiti di gestione del rischio e protezione dei dati per le aziende. Con la scadenza del 28 febbraio 2024 ormai vicina\, è fondamentale comprendere gli obblighi normativi ed essere pronti ad adeguarsi. \nIn questo webinar\, gli esperti di Consulenti ESG analizzeranno nel dettaglio la normativa\, illustrando i principali adempimenti e i rischi per chi non si conforma. Inoltre\, approfondiremo il ruolo della Certificazione ISO 27001\, uno standard internazionale che aiuta le aziende a strutturare un sistema efficace di gestione della sicurezza delle informazioni. \nSe vuoi capire come proteggere i dati aziendali\, evitare sanzioni e trasformare la compliance in un vantaggio competitivo\, questo evento fa per te! \n1 Comprendere la Direttiva NIS 2 \n\nSpiegare il quadro normativo e le novità introdotte dalla Direttiva NIS 2.\nAnalizzare gli obblighi per le aziende e le scadenze previste.\nEvidenziare le sanzioni e i rischi per chi non si adegua.\n\n2 Approfondire la Certificazione ISO 27001 \n\nIllustrare il ruolo della ISO 27001 nella gestione della sicurezza delle informazioni.\nMostrare come ottenere la certificazione e i vantaggi per le aziende.\nConfrontare NIS 2 e ISO 27001 per evidenziare sinergie e best practice.\n\n3 Fornire strumenti pratici alle aziende \n\nCondividere un approccio strutturato per implementare un sistema di gestione della sicurezza efficace.\nEvidenziare come la sicurezza delle informazioni e la governance aziendale siano strettamente interconnesse e fondamentali per la sostenibilità a lungo termine delle aziende.\nRispondere alle domande dei partecipanti per chiarire dubbi e applicazioni concrete.\n\nQuesto webinar è progettato per fornire ai partecipanti una chiara comprensione di come proteggere i dati aziendali\ne garantire la conformità normativa\, evitando sanzioni e migliorando la sicurezza delle informazioni. \nGiovedì 20 Febbraio | 16:00 – 17:30\nNome *Cognome *Email *Azienda *Telefono *Informativa Privacy *Dichiaro di aver preso visione dell'Informativa privacy ed autorizzo il trattamento dei miei dati personali.reCaptcha CommentIscriviti ora
URL:https://www.edc.it/evento/nis2-iso-27001-adeguarsi-entro-la-scadenza-del-28-febbraio/
CATEGORIES:Eventi 2025
END:VEVENT
BEGIN:VEVENT
DTSTART;TZID=Europe/Rome:20250220T103000
DTEND;TZID=Europe/Rome:20250220T113000
DTSTAMP:20260421T121241
CREATED:20250129T100558Z
LAST-MODIFIED:20250129T100558Z
UID:7837-1740047400-1740051000@www.edc.it
SUMMARY:CRM: Ottimizza le Relazioni con i Tuoi Clienti
DESCRIPTION:Scopri come migliorare la gestione delle relazioni con i tuoi clienti grazie a una soluzione CRM innovativa basata su tecnologia Cloud. Attraverso le funzionalità avanzate del software\, mostreremo come ottenere una visione completa e strategica del business. \nGestione centralizzata dei clienti: tutte le informazioni sempre a portata di mano.\nAccessibilità totale: accedi in sicurezza da qualsiasi luogo e dispositivo.\nMiglioramento delle vendite e del servizio clienti: automatizza processi e personalizza l’approccio con i clienti.\nAnalisi dei dati avanzata: prendi decisioni rapide e informate grazie a report chiari e precisi. \nCon CRM accedi ovunque e in qualsiasi momento grazie alla sicurezza del Cloud e Potenzia le tue relazioni commerciali fidelizzando i clienti esistenti e acquisendone di nuovi. \nGIOVEDI’ 20 FEBBRAIO ore 10:30 – 11:30\nIscriviti subito: Registrazione
URL:https://www.edc.it/evento/crm-ottimizza-le-relazioni-con-i-tuoi-clienti/
CATEGORIES:Eventi 2025
ATTACH;FMTTYPE=image/png:https://www.edc.it/wp-content/uploads/2024/04/news-siti-crm.png
END:VEVENT
BEGIN:VEVENT
DTSTART;TZID=Europe/Rome:20250213T103000
DTEND;TZID=Europe/Rome:20250213T113000
DTSTAMP:20260421T121241
CREATED:20250128T150747Z
LAST-MODIFIED:20250128T150747Z
UID:7833-1739442600-1739446200@www.edc.it
SUMMARY:Ad Hoc Revolution Web: Innovazione e Flessibilità
DESCRIPTION:Ad Hoc Revolution Web è la soluzione innovativa di casa Zucchetti pensata per rivoluzionare la gestione aziendale. Scopri come questo potente software gestionale basato su tecnologia Cloud può trasformare il modo in cui lavori\, garantendo flessibilità\, accessibilità e sicurezza. \nAccesso ovunque e in ogni momento: lavora senza vincoli di sede grazie al Cloud.\nGestione semplice e potente: ottimizza i processi aziendali con un’interfaccia intuitiva.\nSicurezza dei dati garantita: protezione completa per le informazioni critiche.\nIntegrazione perfetta: comunica facilmente con altre soluzioni software Zucchetti. \nSe cerchi una soluzione gestionale avanzata e flessibile\, capace di sostenere la crescita della tua azienda\, questo webinar fa per te. Avrai l’opportunità di confrontarti con il nostro tecnico e porre domande in tempo reale. \nIscriviti subito e scopri come portare la tua azienda nel futuro! \nGIOVEDI’ 13 FEBBRAIO ore 10:30 – 11:30\nRegistrati qui: ISCRIZIONE
URL:https://www.edc.it/evento/ad-hoc-revolution-web-innovazione-e-flessibilita/
CATEGORIES:Eventi 2025
ATTACH;FMTTYPE=image/jpeg:https://www.edc.it/wp-content/uploads/2022/12/uomini_tecnologia.jpg
END:VEVENT
BEGIN:VEVENT
DTSTART;TZID=Europe/Rome:20250130T103000
DTEND;TZID=Europe/Rome:20250130T113000
DTSTAMP:20260421T121241
CREATED:20250110T164324Z
LAST-MODIFIED:20250110T164324Z
UID:7804-1738233000-1738236600@www.edc.it
SUMMARY:Sicurezza informatica contro Phishing e Social Engineering
DESCRIPTION:Cos’è il phishing? Il phishing è una tecnica di frode informatica in cui gli attaccanti si spacciano per entità affidabili per ingannare le vittime e ottenere informazioni sensibili come password e dati finanziari. \nCos’è il social engineering? Il social engineering è una forma di manipolazione psicologica utilizzata per convincere le persone a compiere azioni o divulgare informazioni riservate. \nGli attacchi di phishing e social engineering possono avere conseguenze devastanti\, tra cui: \n\nPerdite finanziarie: Le vittime possono subire furti di denaro o frodi finanziarie.\nFurto d’identità: I cybercriminali possono utilizzare le informazioni rubate per impersonare le vittime.\nCompromissione dei dati: Informazioni sensibili possono essere esposte\, causando danni alla reputazione e alla privacy.\n\nNon farti ingannare! \nUnisciti a noi per scoprire come riconoscere e proteggere la tua azienda da questi pericoli. Durante il webinar\, i nostri tecnici condivideranno strategie pratiche per affrontare gli attacchi e risponderanno alle vostre domande. \nGiovedì 30 Gennaio 2025 | ore 10:30 – 11:30\nIscriviti qui gratuitamente
URL:https://www.edc.it/evento/sicurezza-informatica-contro-phishing-e-social-engineering/
CATEGORIES:Eventi 2025
ATTACH;FMTTYPE=image/png:https://www.edc.it/wp-content/uploads/2025/01/instant-5.png
END:VEVENT
BEGIN:VEVENT
DTSTART;TZID=Europe/Rome:20250123T103000
DTEND;TZID=Europe/Rome:20250123T113000
DTSTAMP:20260421T121241
CREATED:20250110T145716Z
LAST-MODIFIED:20250110T164458Z
UID:7797-1737628200-1737631800@www.edc.it
SUMMARY:Edc Impianti - Efficienza totale
DESCRIPTION:Edc Impianti è il software gestionale adatto per tutte le aziende che si occupano di manutenzione e assistenza tecnica su ogni genere tipo di impianti. \nCon questo software vengono gestite facilmente le anagrafiche\, gli interventi\, i contratti\, le manutenzioni programmate dei tecnici e molto altro grazie alla Gestione CRM\, Gestione Assistenza e Gestione Tecnici / Operatori. \nGestione CRM: Gestisce le anagrafiche\, dettagli clienti e contratti \nGestione Assistenza: Gestisce i ticket\, gli interventi e monitora i materiali in scadenza \nGestione Tecnici: Gestisce gli appuntamenti di assistenza\, il magazzino e le assistenze periodiche \nC’è anche la possibilità di collegare l’applicazione\, sviluppata da Gruppo Edc\, Mobi-Ta\, che consente ai tecnici di tenere traccia del proprio lavoro\, quindi di poter accedere ovunque agli interventi da effettuare\, in tempo reale. Il tecnico avrà a sua disposizione i dati relativi ai clienti\, agli impianti\, agli interventi\, al magazzino viaggiante… \nPartecipa al webinar gratuito Edc Impianti – Efficienza totale\, per scoprire molte altre informazioni! \nGiovedì 23 Gennaio | ore 10:30 – 11:30\nIscriviti qui gratuitamente
URL:https://www.edc.it/evento/edc-impianti-efficienza-totale/
CATEGORIES:Eventi 2025
END:VEVENT
END:VCALENDAR