BEGIN:VCALENDAR
VERSION:2.0
PRODID:-//Gruppo EDC - ECPv6.15.17.1//NONSGML v1.0//EN
CALSCALE:GREGORIAN
METHOD:PUBLISH
X-ORIGINAL-URL:https://www.edc.it
X-WR-CALDESC:Eventi per Gruppo EDC
REFRESH-INTERVAL;VALUE=DURATION:PT1H
X-Robots-Tag:noindex
X-PUBLISHED-TTL:PT1H
BEGIN:VTIMEZONE
TZID:Europe/Rome
BEGIN:DAYLIGHT
TZOFFSETFROM:+0100
TZOFFSETTO:+0200
TZNAME:CEST
DTSTART:20240331T010000
END:DAYLIGHT
BEGIN:STANDARD
TZOFFSETFROM:+0200
TZOFFSETTO:+0100
TZNAME:CET
DTSTART:20241027T010000
END:STANDARD
BEGIN:DAYLIGHT
TZOFFSETFROM:+0100
TZOFFSETTO:+0200
TZNAME:CEST
DTSTART:20250330T010000
END:DAYLIGHT
BEGIN:STANDARD
TZOFFSETFROM:+0200
TZOFFSETTO:+0100
TZNAME:CET
DTSTART:20251026T010000
END:STANDARD
BEGIN:DAYLIGHT
TZOFFSETFROM:+0100
TZOFFSETTO:+0200
TZNAME:CEST
DTSTART:20260329T010000
END:DAYLIGHT
BEGIN:STANDARD
TZOFFSETFROM:+0200
TZOFFSETTO:+0100
TZNAME:CET
DTSTART:20261025T010000
END:STANDARD
END:VTIMEZONE
BEGIN:VEVENT
DTSTART;TZID=Europe/Rome:20250718T103000
DTEND;TZID=Europe/Rome:20250718T113000
DTSTAMP:20260423T113557
CREATED:20250528T085327Z
LAST-MODIFIED:20250603T091248Z
UID:7954-1752834600-1752838200@www.edc.it
SUMMARY:CRM: Gestisci le Relazioni con i Tuoi Clienti
DESCRIPTION:Scopri come migliorare la gestione delle relazioni con i tuoi clienti grazie a una soluzione CRM innovativa basata su tecnologia Cloud. Attraverso le funzionalità avanzate del software\, mostreremo come ottenere una visione completa e strategica del business. \nGestione centralizzata dei clienti: tutte le informazioni sempre a portata di mano.\nAccessibilità totale: accedi in sicurezza da qualsiasi luogo e dispositivo.\nMiglioramento delle vendite e del servizio clienti: automatizza processi e personalizza l’approccio con i clienti.\nAnalisi dei dati avanzata: prendi decisioni rapide e informate grazie a report chiari e precisi. \nCon CRM accedi ovunque e in qualsiasi momento grazie alla sicurezza del Cloud e Potenzia le tue relazioni commerciali fidelizzando i clienti esistenti e acquisendone di nuovi. \nVENERDI’ 18 LUGLIO ore 10:30 – 11:30\nNome e Cognome *Email *Telefono *Azienda *Informativa Privacy *Dichiaro di aver preso visione dell'Informativa privacy ed autorizzo il trattamento dei miei dati personali.reCaptcha EmailIscriviti
URL:https://www.edc.it/evento/crm-gestisci-le-relazioni-con-i-tuoi-clienti/
CATEGORIES:Eventi 2025
ATTACH;FMTTYPE=image/png:https://www.edc.it/wp-content/uploads/2024/04/news-siti-crm.png
END:VEVENT
END:VCALENDAR