BEGIN:VCALENDAR
VERSION:2.0
PRODID:-//Gruppo EDC - ECPv6.15.17.1//NONSGML v1.0//EN
CALSCALE:GREGORIAN
METHOD:PUBLISH
X-WR-CALNAME:Gruppo EDC
X-ORIGINAL-URL:https://www.edc.it
X-WR-CALDESC:Eventi per Gruppo EDC
REFRESH-INTERVAL;VALUE=DURATION:PT1H
X-Robots-Tag:noindex
X-PUBLISHED-TTL:PT1H
BEGIN:VTIMEZONE
TZID:Europe/Rome
BEGIN:DAYLIGHT
TZOFFSETFROM:+0100
TZOFFSETTO:+0200
TZNAME:CEST
DTSTART:20240331T010000
END:DAYLIGHT
BEGIN:STANDARD
TZOFFSETFROM:+0200
TZOFFSETTO:+0100
TZNAME:CET
DTSTART:20241027T010000
END:STANDARD
BEGIN:DAYLIGHT
TZOFFSETFROM:+0100
TZOFFSETTO:+0200
TZNAME:CEST
DTSTART:20250330T010000
END:DAYLIGHT
BEGIN:STANDARD
TZOFFSETFROM:+0200
TZOFFSETTO:+0100
TZNAME:CET
DTSTART:20251026T010000
END:STANDARD
BEGIN:DAYLIGHT
TZOFFSETFROM:+0100
TZOFFSETTO:+0200
TZNAME:CEST
DTSTART:20260329T010000
END:DAYLIGHT
BEGIN:STANDARD
TZOFFSETFROM:+0200
TZOFFSETTO:+0100
TZNAME:CET
DTSTART:20261025T010000
END:STANDARD
END:VTIMEZONE
BEGIN:VEVENT
DTSTART;TZID=Europe/Rome:20250509T103000
DTEND;TZID=Europe/Rome:20250509T113000
DTSTAMP:20260423T135805
CREATED:20250422T070315Z
LAST-MODIFIED:20250422T070813Z
UID:7942-1746786600-1746790200@www.edc.it
SUMMARY:Ottimizzare la sicurezza antincendio con Edc Fire
DESCRIPTION: EDC FIRE\nSoftware per la gestione dell’assistenza tecnica su estintori e impianti antincendio \nNato da Gruppo EDC\, EDC FIRE è il software gestionale che permette a tutte le aziende di gestire i ticket\, gli interventi\, il rendimento degli estintori\, i componenti in scadenza\, il parco macchine\, lo storico degli interventi\, i contratti e la fatturazione. \nSpecifico per la sezione FIRE è la pianificazione nel tempo di risorse e procedure di controllo legate a normative obbligatorie per Legge. \nScarica la Brochure\n  \nScopri di più nel webinar gratuito\nVENERDI’ 09 MAGGIO alle ore 10:30\nIscriviti qui
URL:https://www.edc.it/evento/ottimizzare-la-sicurezza-antincendio-con-edc-fire/
LOCATION:GoTo Webinar
CATEGORIES:EDC FIRE,Eventi 2025
ATTACH;FMTTYPE=image/jpeg:https://www.edc.it/wp-content/uploads/2017/07/edc-fire-software-gestionale-ditte-installazione-manutenzione-estintori-impianti-antincendio.jpg
ORGANIZER;CN="Gruppo EDC":MAILTO:info@edc.it
END:VEVENT
END:VCALENDAR