BEGIN:VCALENDAR
VERSION:2.0
PRODID:-//Gruppo EDC - ECPv6.15.17.1//NONSGML v1.0//EN
CALSCALE:GREGORIAN
METHOD:PUBLISH
X-ORIGINAL-URL:https://www.edc.it
X-WR-CALDESC:Eventi per Gruppo EDC
REFRESH-INTERVAL;VALUE=DURATION:PT1H
X-Robots-Tag:noindex
X-PUBLISHED-TTL:PT1H
BEGIN:VTIMEZONE
TZID:Europe/Rome
BEGIN:DAYLIGHT
TZOFFSETFROM:+0100
TZOFFSETTO:+0200
TZNAME:CEST
DTSTART:20240331T010000
END:DAYLIGHT
BEGIN:STANDARD
TZOFFSETFROM:+0200
TZOFFSETTO:+0100
TZNAME:CET
DTSTART:20241027T010000
END:STANDARD
BEGIN:DAYLIGHT
TZOFFSETFROM:+0100
TZOFFSETTO:+0200
TZNAME:CEST
DTSTART:20250330T010000
END:DAYLIGHT
BEGIN:STANDARD
TZOFFSETFROM:+0200
TZOFFSETTO:+0100
TZNAME:CET
DTSTART:20251026T010000
END:STANDARD
BEGIN:DAYLIGHT
TZOFFSETFROM:+0100
TZOFFSETTO:+0200
TZNAME:CEST
DTSTART:20260329T010000
END:DAYLIGHT
BEGIN:STANDARD
TZOFFSETFROM:+0200
TZOFFSETTO:+0100
TZNAME:CET
DTSTART:20261025T010000
END:STANDARD
END:VTIMEZONE
BEGIN:VEVENT
DTSTART;TZID=Europe/Rome:20250220T103000
DTEND;TZID=Europe/Rome:20250220T113000
DTSTAMP:20260425T143804
CREATED:20250129T100558Z
LAST-MODIFIED:20250129T100558Z
UID:7837-1740047400-1740051000@www.edc.it
SUMMARY:CRM: Ottimizza le Relazioni con i Tuoi Clienti
DESCRIPTION:Scopri come migliorare la gestione delle relazioni con i tuoi clienti grazie a una soluzione CRM innovativa basata su tecnologia Cloud. Attraverso le funzionalità avanzate del software\, mostreremo come ottenere una visione completa e strategica del business. \nGestione centralizzata dei clienti: tutte le informazioni sempre a portata di mano.\nAccessibilità totale: accedi in sicurezza da qualsiasi luogo e dispositivo.\nMiglioramento delle vendite e del servizio clienti: automatizza processi e personalizza l’approccio con i clienti.\nAnalisi dei dati avanzata: prendi decisioni rapide e informate grazie a report chiari e precisi. \nCon CRM accedi ovunque e in qualsiasi momento grazie alla sicurezza del Cloud e Potenzia le tue relazioni commerciali fidelizzando i clienti esistenti e acquisendone di nuovi. \nGIOVEDI’ 20 FEBBRAIO ore 10:30 – 11:30\nIscriviti subito: Registrazione
URL:https://www.edc.it/evento/crm-ottimizza-le-relazioni-con-i-tuoi-clienti/
CATEGORIES:Eventi 2025
ATTACH;FMTTYPE=image/png:https://www.edc.it/wp-content/uploads/2024/04/news-siti-crm.png
END:VEVENT
BEGIN:VEVENT
DTSTART;TZID=Europe/Rome:20250220T160000
DTEND;TZID=Europe/Rome:20250220T173000
DTSTAMP:20260425T143804
CREATED:20250211T085939Z
LAST-MODIFIED:20250211T090043Z
UID:7862-1740067200-1740072600@www.edc.it
SUMMARY:NIS2 & ISO 27001 Adeguarsi entro la scadenza del 28 febbraio
DESCRIPTION:La Direttiva NIS 2 rappresenta un cambiamento significativo per la sicurezza informatica\, imponendo nuovi requisiti di gestione del rischio e protezione dei dati per le aziende. Con la scadenza del 28 febbraio 2024 ormai vicina\, è fondamentale comprendere gli obblighi normativi ed essere pronti ad adeguarsi. \nIn questo webinar\, gli esperti di Consulenti ESG analizzeranno nel dettaglio la normativa\, illustrando i principali adempimenti e i rischi per chi non si conforma. Inoltre\, approfondiremo il ruolo della Certificazione ISO 27001\, uno standard internazionale che aiuta le aziende a strutturare un sistema efficace di gestione della sicurezza delle informazioni. \nSe vuoi capire come proteggere i dati aziendali\, evitare sanzioni e trasformare la compliance in un vantaggio competitivo\, questo evento fa per te! \n1 Comprendere la Direttiva NIS 2 \n\nSpiegare il quadro normativo e le novità introdotte dalla Direttiva NIS 2.\nAnalizzare gli obblighi per le aziende e le scadenze previste.\nEvidenziare le sanzioni e i rischi per chi non si adegua.\n\n2 Approfondire la Certificazione ISO 27001 \n\nIllustrare il ruolo della ISO 27001 nella gestione della sicurezza delle informazioni.\nMostrare come ottenere la certificazione e i vantaggi per le aziende.\nConfrontare NIS 2 e ISO 27001 per evidenziare sinergie e best practice.\n\n3 Fornire strumenti pratici alle aziende \n\nCondividere un approccio strutturato per implementare un sistema di gestione della sicurezza efficace.\nEvidenziare come la sicurezza delle informazioni e la governance aziendale siano strettamente interconnesse e fondamentali per la sostenibilità a lungo termine delle aziende.\nRispondere alle domande dei partecipanti per chiarire dubbi e applicazioni concrete.\n\nQuesto webinar è progettato per fornire ai partecipanti una chiara comprensione di come proteggere i dati aziendali\ne garantire la conformità normativa\, evitando sanzioni e migliorando la sicurezza delle informazioni. \nGiovedì 20 Febbraio | 16:00 – 17:30\nNome *Cognome *Email *Azienda *Telefono *Informativa Privacy *Dichiaro di aver preso visione dell'Informativa privacy ed autorizzo il trattamento dei miei dati personali.reCaptcha NameIscriviti ora
URL:https://www.edc.it/evento/nis2-iso-27001-adeguarsi-entro-la-scadenza-del-28-febbraio/
CATEGORIES:Eventi 2025
END:VEVENT
END:VCALENDAR