BEGIN:VCALENDAR
VERSION:2.0
PRODID:-//Gruppo EDC - ECPv6.15.17.1//NONSGML v1.0//EN
CALSCALE:GREGORIAN
METHOD:PUBLISH
X-ORIGINAL-URL:https://www.edc.it
X-WR-CALDESC:Eventi per Gruppo EDC
REFRESH-INTERVAL;VALUE=DURATION:PT1H
X-Robots-Tag:noindex
X-PUBLISHED-TTL:PT1H
BEGIN:VTIMEZONE
TZID:Europe/Rome
BEGIN:DAYLIGHT
TZOFFSETFROM:+0100
TZOFFSETTO:+0200
TZNAME:CEST
DTSTART:20240331T010000
END:DAYLIGHT
BEGIN:STANDARD
TZOFFSETFROM:+0200
TZOFFSETTO:+0100
TZNAME:CET
DTSTART:20241027T010000
END:STANDARD
BEGIN:DAYLIGHT
TZOFFSETFROM:+0100
TZOFFSETTO:+0200
TZNAME:CEST
DTSTART:20250330T010000
END:DAYLIGHT
BEGIN:STANDARD
TZOFFSETFROM:+0200
TZOFFSETTO:+0100
TZNAME:CET
DTSTART:20251026T010000
END:STANDARD
BEGIN:DAYLIGHT
TZOFFSETFROM:+0100
TZOFFSETTO:+0200
TZNAME:CEST
DTSTART:20260329T010000
END:DAYLIGHT
BEGIN:STANDARD
TZOFFSETFROM:+0200
TZOFFSETTO:+0100
TZNAME:CET
DTSTART:20261025T010000
END:STANDARD
END:VTIMEZONE
BEGIN:VEVENT
DTSTART;TZID=Europe/Rome:20250919T110000
DTEND;TZID=Europe/Rome:20250919T120000
DTSTAMP:20260421T191922
CREATED:20250912T145510Z
LAST-MODIFIED:20250912T145806Z
UID:8038-1758279600-1758283200@www.edc.it
SUMMARY:La tua azienda\, ovunque tu sia:  Ad Hoc Revolution Web
DESCRIPTION:Ad Hoc Revolution Web è la soluzione innovativa di casa Zucchetti pensata per rivoluzionare la gestione aziendale. Scopri come questo potente software gestionale basato su tecnologia Cloud può trasformare il modo in cui lavori\, garantendo flessibilità\, accessibilità e sicurezza. \nAccesso ovunque e in ogni momento: lavora senza vincoli di sede grazie al Cloud.\nGestione semplice e potente: ottimizza i processi aziendali con un’interfaccia intuitiva.\nSicurezza dei dati garantita: protezione completa per le informazioni critiche.\nIntegrazione perfetta: comunica facilmente con altre soluzioni software Zucchetti. \nSe cerchi una soluzione gestionale avanzata e flessibile\, capace di sostenere la crescita della tua azienda\, questo webinar fa per te. Avrai l’opportunità di confrontarti con il nostro tecnico e porre domande in tempo reale. \nIscriviti subito e scopri come portare la tua azienda nel futuro! \nVENERDI’ 19 SETTEMBRE\nIscriviti qui
URL:https://www.edc.it/evento/tavola-rotonda-ad-hoc-revolution-web-trasforma-il-tuo-lavoro-copy/
CATEGORIES:Eventi 2025
ATTACH;FMTTYPE=image/jpeg:https://www.edc.it/wp-content/uploads/2022/12/uomini_tecnologia.jpg
END:VEVENT
BEGIN:VEVENT
DTSTART;TZID=Europe/Rome:20250925T100000
DTEND;TZID=Europe/Rome:20250925T110000
DTSTAMP:20260421T191922
CREATED:20250724T134358Z
LAST-MODIFIED:20250923T133821Z
UID:8006-1758794400-1758798000@www.edc.it
SUMMARY:DOCCREDIT la gestione del credito commerciale
DESCRIPTION: DOCCREDIT\nIl software per la gestione del credito commerciale\nI tuoi clienti promettono di pagare ma poi non riesci a controllarli? \nAssegni ed utilizzi il fido e il rating dei tuoi clienti? \nFai fatica a tenere traccia dei solleciti fatti e da fare? \nDoccredit è un progetto applicativo per la gestione del credito aziendale  \nTi racconteremo della nostra collaborazione con DocFinance e ti daremo tutte le informazioni su come DocCredit\, software per la gestione del credito commerciale\, sia integrato alle nostre soluzioni. \n  \nIscriviti qui al webinar gratuito
URL:https://www.edc.it/evento/doccredit-la-gestione-del-credito-commerciale/
LOCATION:GoTo Webinar
CATEGORIES:Eventi 2025
ATTACH;FMTTYPE=image/jpeg:https://www.edc.it/wp-content/uploads/2025/07/Immagine1.jpg
ORGANIZER;CN="Gruppo EDC":MAILTO:info@edc.it
END:VEVENT
BEGIN:VEVENT
DTSTART;TZID=Europe/Rome:20250930T103000
DTEND;TZID=Europe/Rome:20250930T113000
DTSTAMP:20260421T191922
CREATED:20250725T131802Z
LAST-MODIFIED:20250725T133742Z
UID:8010-1759228200-1759231800@www.edc.it
SUMMARY:EDC Impianti - Soluzioni verticali\, risultati concreti
DESCRIPTION:Edc Impianti è il software gestionale adatto per tutte le aziende che si occupano di manutenzione e assistenza tecnica su ogni genere tipo di impianti. \nCon questo software vengono gestite facilmente le anagrafiche\, gli interventi\, i contratti\, le manutenzioni programmate dei tecnici e molto altro grazie alla Gestione CRM\, Gestione Assistenza e Gestione Tecnici / Operatori. \nGestione CRM: Gestisce le anagrafiche\, dettagli clienti e contratti \nGestione Assistenza: Gestisce i ticket\, gli interventi e monitora i materiali in scadenza \nGestione Tecnici: Gestisce gli appuntamenti di assistenza\, il magazzino e le assistenze periodiche \nC’è anche la possibilità di collegare l’applicazione\, sviluppata da Gruppo Edc\, Mobi-Ta\, che consente ai tecnici di tenere traccia del proprio lavoro\, quindi di poter accedere ovunque agli interventi da effettuare\, in tempo reale. Il tecnico avrà a sua disposizione i dati relativi ai clienti\, agli impianti\, agli interventi\, al magazzino viaggiante… \nPartecipa al webinar gratuito Edc Impianti – Efficienza totale\, per scoprire molte altre informazioni! \nMartedì 30 Settembre | ore 10:30 – 11:30\nIscriviti qui gratuitamente
URL:https://www.edc.it/evento/edc-impianti-soluzioni-verticali-risultati-concreti/
CATEGORIES:Eventi 2025
END:VEVENT
END:VCALENDAR