BEGIN:VCALENDAR
VERSION:2.0
PRODID:-//Gruppo EDC - ECPv6.15.17.1//NONSGML v1.0//EN
CALSCALE:GREGORIAN
METHOD:PUBLISH
X-ORIGINAL-URL:https://www.edc.it
X-WR-CALDESC:Eventi per Gruppo EDC
REFRESH-INTERVAL;VALUE=DURATION:PT1H
X-Robots-Tag:noindex
X-PUBLISHED-TTL:PT1H
BEGIN:VTIMEZONE
TZID:Europe/Rome
BEGIN:DAYLIGHT
TZOFFSETFROM:+0100
TZOFFSETTO:+0200
TZNAME:CEST
DTSTART:20210328T010000
END:DAYLIGHT
BEGIN:STANDARD
TZOFFSETFROM:+0200
TZOFFSETTO:+0100
TZNAME:CET
DTSTART:20211031T010000
END:STANDARD
BEGIN:DAYLIGHT
TZOFFSETFROM:+0100
TZOFFSETTO:+0200
TZNAME:CEST
DTSTART:20220327T010000
END:DAYLIGHT
BEGIN:STANDARD
TZOFFSETFROM:+0200
TZOFFSETTO:+0100
TZNAME:CET
DTSTART:20221030T010000
END:STANDARD
BEGIN:DAYLIGHT
TZOFFSETFROM:+0100
TZOFFSETTO:+0200
TZNAME:CEST
DTSTART:20230326T010000
END:DAYLIGHT
BEGIN:STANDARD
TZOFFSETFROM:+0200
TZOFFSETTO:+0100
TZNAME:CET
DTSTART:20231029T010000
END:STANDARD
BEGIN:DAYLIGHT
TZOFFSETFROM:+0100
TZOFFSETTO:+0200
TZNAME:CEST
DTSTART:20240331T010000
END:DAYLIGHT
BEGIN:STANDARD
TZOFFSETFROM:+0200
TZOFFSETTO:+0100
TZNAME:CET
DTSTART:20241027T010000
END:STANDARD
BEGIN:DAYLIGHT
TZOFFSETFROM:+0100
TZOFFSETTO:+0200
TZNAME:CEST
DTSTART:20250330T010000
END:DAYLIGHT
BEGIN:STANDARD
TZOFFSETFROM:+0200
TZOFFSETTO:+0100
TZNAME:CET
DTSTART:20251026T010000
END:STANDARD
BEGIN:DAYLIGHT
TZOFFSETFROM:+0100
TZOFFSETTO:+0200
TZNAME:CEST
DTSTART:20260329T010000
END:DAYLIGHT
BEGIN:STANDARD
TZOFFSETFROM:+0200
TZOFFSETTO:+0100
TZNAME:CET
DTSTART:20261025T010000
END:STANDARD
END:VTIMEZONE
BEGIN:VEVENT
DTSTART;TZID=Europe/Rome:20251016T103000
DTEND;TZID=Europe/Rome:20251016T113000
DTSTAMP:20260421T121418
CREATED:20250904T075406Z
LAST-MODIFIED:20250904T075809Z
UID:8023-1760610600-1760614200@www.edc.it
SUMMARY:EDC GAS: Assistenza tecnica di bombole gas
DESCRIPTION:EDC GAS\nsoftware per la vendita\, noleggio e assistenza di bombole gas\n(acetilene\, ossigeno\, elio\, arcal\, gpl\, azoto\, argon\, co2…)\n  \nEDC GAS\, software con moltissime funzioni legate a normative e funzionalità specifiche del settore ed è di facile integrazione con i principali gestionali aziendali. \nCon EDC GAS potrete gestire in maniera intuitiva l’anagrafica dei vostri clienti con lo storico delle chiamate e degli interventi\, i contratti stipulati\, avere sempre sotto controllo le giacenze delle bombole\, gestire le bombole per matricola\, avere una gestione automatizzata del carico/scarico e del pieno/vuoto e molte altre funzioni specifiche… \nLa sua struttura è modulare e flessibile\, permettendo ad ogni tipo di azienda di personalizzare il prodotto in base alle proprie esigenze\, scegliendo tra i vari moduli presenti in esso. \nGiovedì 16 Ottobre alle ore 10:30\nIscriviti qui
URL:https://www.edc.it/evento/edc-gas-assistenza-tecnica-di-bombole-gas/
CATEGORIES:EDC GAS,Eventi 2025
ORGANIZER;CN="Gruppo EDC":MAILTO:info@edc.it
END:VEVENT
BEGIN:VEVENT
DTSTART;TZID=Europe/Rome:20230324T000000
DTEND;TZID=Europe/Rome:20230324T000000
DTSTAMP:20260421T121418
CREATED:20221229T155920Z
LAST-MODIFIED:20230403T092719Z
UID:6593-1679616000-1679616000@www.edc.it
SUMMARY:EDC GAS per l'assistenza tecnica di bombole gas
DESCRIPTION:EDC GAS\nsoftware per la vendita\, noleggio e assistenza di bombole gas\n(acetilene\, ossigeno\, elio\, arcal\, gpl\, azoto\, argon\, co2…)\n  \nEDC GAS\, software con moltissime funzioni legate a normative e funzionalità specifiche del settore ed è di facile integrazione con i principali gestionali aziendali. \nCon EDC GAS potrete gestire in maniera intuitiva l’anagrafica dei vostri clienti con lo storico delle chiamate e degli interventi\, i contratti stipulati\, avere sempre sotto controllo le giacenze delle bombole\, gestire le bombole per matricola\, avere una gestione automatizzata del carico/scarico e del pieno/vuoto e molte altre funzioni specifiche… \nLa sua struttura è modulare e flessibile\, permettendo ad ogni tipo di azienda di personalizzare il prodotto in base alle proprie esigenze\, scegliendo tra i vari moduli presenti in esso. \n  \nGuarda qui la registrazione del webinar!
URL:https://www.edc.it/evento/edc-gas-per-lassistenza-tecnica-di-bombole-gas/
CATEGORIES:EDC GAS,Eventi 2023
ORGANIZER;CN="Gruppo EDC":MAILTO:info@edc.it
END:VEVENT
BEGIN:VEVENT
DTSTART;TZID=Europe/Rome:20221021T110000
DTEND;TZID=Europe/Rome:20221021T120000
DTSTAMP:20260421T121418
CREATED:20220901T144732Z
LAST-MODIFIED:20221103T080331Z
UID:6430-1666350000-1666353600@www.edc.it
SUMMARY:Guarda il video - EDC GAS software per l'assistenza tecnica di bombole gas
DESCRIPTION:EDC GAS\nsoftware per la vendita\, noleggio e assistenza di bombole gas\n(acetilene\, ossigeno\, elio\, arcal\, gpl\, azoto\, argon\, co2…)\n  \nEDC GAS\, software con moltissime funzioni legate a normative e funzionalità specifiche del settore ed è di facile integrazione con i principali gestionali aziendali. \nCon EDC GAS potrete gestire in maniera intuitiva l’anagrafica dei vostri clienti con lo storico delle chiamate e degli interventi\, i contratti stipulati\, avere sempre sotto controllo le giacenze delle bombole\, gestire le bombole per matricola\, avere una gestione automatizzata del carico/scarico e del pieno/vuoto e molte altre funzioni specifiche… \nLa sua struttura è modulare e flessibile\, permettendo ad ogni tipo di azienda di personalizzare il prodotto in base alle proprie esigenze\, scegliendo tra i vari moduli presenti in esso. \nGuarda qui la registrazione del webinar!
URL:https://www.edc.it/evento/edc-gas-software-per-lassistenza-tecnica-di-bombole-gas/
CATEGORIES:EDC GAS,Eventi 2022
ORGANIZER;CN="Gruppo EDC":MAILTO:info@edc.it
END:VEVENT
BEGIN:VEVENT
DTSTART;TZID=Europe/Rome:20220310T100000
DTEND;TZID=Europe/Rome:20220310T110000
DTSTAMP:20260421T121418
CREATED:20210825T073945Z
LAST-MODIFIED:20220707T145735Z
UID:5525-1646906400-1646910000@www.edc.it
SUMMARY:Guarda qui il video - EDC GAS gestionale per la vendita\, noleggio\, manutenzione e assistenza di bombole
DESCRIPTION:EDC GAS\, software per la vendita\, noleggio e assistenza di bombole gas\n(acetilene\, ossigeno\, elio\, arcal\, gpl\, azoto\, argon\, co2…)\n  \nEDC GAS\, software con moltissime funzioni legate a normative e funzionalità specifiche del settore ed è di facile integrazione con i principali gestionali aziendali. \nCon EDC GAS potrete gestire in maniera intuitiva: \n\nl’anagrafica dei vostri clienti con lo storico delle chiamate e degli interventi\,\ni contratti stipulati\, avere sempre sotto controllo le giacenze delle bombole\,\ngestire le bombole per matricola\,\navere una gestione automatizzata del carico/scarico e del pieno/vuoto\,\ne molte altre funzioni specifiche…\n\nLa sua struttura è modulare e flessibile\, permettendo ad ogni tipo di azienda di personalizzare il prodotto in base alle proprie esigenze\, scegliendo tra i vari moduli presenti in esso. \nGuarda qui la registrazione!
URL:https://www.edc.it/evento/edc-gas-gestionale-per-la-vendita-noleggio-manutenzione-e-assistenza-di-bombole/
CATEGORIES:EDC GAS,Eventi 2022
ORGANIZER;CN="Gruppo EDC":MAILTO:info@edc.it
END:VEVENT
END:VCALENDAR