BEGIN:VCALENDAR
VERSION:2.0
PRODID:-//Gruppo EDC - ECPv6.15.17.1//NONSGML v1.0//EN
CALSCALE:GREGORIAN
METHOD:PUBLISH
X-WR-CALNAME:Gruppo EDC
X-ORIGINAL-URL:https://www.edc.it
X-WR-CALDESC:Eventi per Gruppo EDC
REFRESH-INTERVAL;VALUE=DURATION:PT1H
X-Robots-Tag:noindex
X-PUBLISHED-TTL:PT1H
BEGIN:VTIMEZONE
TZID:Europe/Rome
BEGIN:DAYLIGHT
TZOFFSETFROM:+0100
TZOFFSETTO:+0200
TZNAME:CEST
DTSTART:20200329T010000
END:DAYLIGHT
BEGIN:STANDARD
TZOFFSETFROM:+0200
TZOFFSETTO:+0100
TZNAME:CET
DTSTART:20201025T010000
END:STANDARD
BEGIN:DAYLIGHT
TZOFFSETFROM:+0100
TZOFFSETTO:+0200
TZNAME:CEST
DTSTART:20210328T010000
END:DAYLIGHT
BEGIN:STANDARD
TZOFFSETFROM:+0200
TZOFFSETTO:+0100
TZNAME:CET
DTSTART:20211031T010000
END:STANDARD
BEGIN:DAYLIGHT
TZOFFSETFROM:+0100
TZOFFSETTO:+0200
TZNAME:CEST
DTSTART:20220327T010000
END:DAYLIGHT
BEGIN:STANDARD
TZOFFSETFROM:+0200
TZOFFSETTO:+0100
TZNAME:CET
DTSTART:20221030T010000
END:STANDARD
BEGIN:DAYLIGHT
TZOFFSETFROM:+0100
TZOFFSETTO:+0200
TZNAME:CEST
DTSTART:20230326T010000
END:DAYLIGHT
BEGIN:STANDARD
TZOFFSETFROM:+0200
TZOFFSETTO:+0100
TZNAME:CET
DTSTART:20231029T010000
END:STANDARD
BEGIN:DAYLIGHT
TZOFFSETFROM:+0100
TZOFFSETTO:+0200
TZNAME:CEST
DTSTART:20240331T010000
END:DAYLIGHT
BEGIN:STANDARD
TZOFFSETFROM:+0200
TZOFFSETTO:+0100
TZNAME:CET
DTSTART:20241027T010000
END:STANDARD
BEGIN:DAYLIGHT
TZOFFSETFROM:+0100
TZOFFSETTO:+0200
TZNAME:CEST
DTSTART:20250330T010000
END:DAYLIGHT
BEGIN:STANDARD
TZOFFSETFROM:+0200
TZOFFSETTO:+0100
TZNAME:CET
DTSTART:20251026T010000
END:STANDARD
BEGIN:DAYLIGHT
TZOFFSETFROM:+0100
TZOFFSETTO:+0200
TZNAME:CEST
DTSTART:20260329T010000
END:DAYLIGHT
BEGIN:STANDARD
TZOFFSETFROM:+0200
TZOFFSETTO:+0100
TZNAME:CET
DTSTART:20261025T010000
END:STANDARD
END:VTIMEZONE
BEGIN:VEVENT
DTSTART;TZID=Europe/Rome:20250509T103000
DTEND;TZID=Europe/Rome:20250509T113000
DTSTAMP:20260421T121017
CREATED:20250422T070315Z
LAST-MODIFIED:20250422T070813Z
UID:7942-1746786600-1746790200@www.edc.it
SUMMARY:Ottimizzare la sicurezza antincendio con Edc Fire
DESCRIPTION: EDC FIRE\nSoftware per la gestione dell’assistenza tecnica su estintori e impianti antincendio \nNato da Gruppo EDC\, EDC FIRE è il software gestionale che permette a tutte le aziende di gestire i ticket\, gli interventi\, il rendimento degli estintori\, i componenti in scadenza\, il parco macchine\, lo storico degli interventi\, i contratti e la fatturazione. \nSpecifico per la sezione FIRE è la pianificazione nel tempo di risorse e procedure di controllo legate a normative obbligatorie per Legge. \nScarica la Brochure\n  \nScopri di più nel webinar gratuito\nVENERDI’ 09 MAGGIO alle ore 10:30\nIscriviti qui
URL:https://www.edc.it/evento/ottimizzare-la-sicurezza-antincendio-con-edc-fire/
LOCATION:GoTo Webinar
CATEGORIES:EDC FIRE,Eventi 2025
ATTACH;FMTTYPE=image/jpeg:https://www.edc.it/wp-content/uploads/2017/07/edc-fire-software-gestionale-ditte-installazione-manutenzione-estintori-impianti-antincendio.jpg
ORGANIZER;CN="Gruppo EDC":MAILTO:info@edc.it
END:VEVENT
BEGIN:VEVENT
DTSTART;TZID=Europe/Rome:20240209T110000
DTEND;TZID=Europe/Rome:20240209T120000
DTSTAMP:20260421T121017
CREATED:20240130T092329Z
LAST-MODIFIED:20240130T092904Z
UID:7266-1707476400-1707480000@www.edc.it
SUMMARY:EDC FIRE gestione dell'assistenza tecnica
DESCRIPTION: EDC FIRE\nSoftware per la gestione dell’assistenza tecnica su estintori e impianti antincendio \nNato da Gruppo EDC\, EDC FIRE è il software gestionale che permette a tutte le aziende di gestire i ticket\, gli interventi\, il rendimento degli estintori\, i componenti in scadenza\, il parco macchine\, lo storico degli interventi\, i contratti e la fatturazione. \nSpecifico per la sezione FIRE è la pianificazione nel tempo di risorse e procedure di controllo legate a normative obbligatorie per Legge. \nScarica la Brochure\n  \nScopri di più nel webinar gratuito\nVENERDI’ 09 FEBBRAIO alle ore 11:00\nIscriviti qui
URL:https://www.edc.it/evento/edc-fire-gestione-dellassistenza-tecnica-2/
LOCATION:GoTo Webinar
CATEGORIES:EDC FIRE,Eventi 2024
ATTACH;FMTTYPE=image/jpeg:https://www.edc.it/wp-content/uploads/2017/07/edc-fire-software-gestionale-ditte-installazione-manutenzione-estintori-impianti-antincendio.jpg
ORGANIZER;CN="Gruppo EDC":MAILTO:info@edc.it
END:VEVENT
BEGIN:VEVENT
DTSTART;TZID=Europe/Rome:20231117T113000
DTEND;TZID=Europe/Rome:20231117T123000
DTSTAMP:20260421T121017
CREATED:20231106T084838Z
LAST-MODIFIED:20231106T085713Z
UID:7172-1700220600-1700224200@www.edc.it
SUMMARY:EDC FIRE gestione dell'assistenza tecnica
DESCRIPTION: EDC FIRE\nSoftware per la gestione dell’assistenza tecnica su estintori e impianti antincendio \nNato da Gruppo EDC\, EDC FIRE è il software gestionale che permette a tutte le aziende di gestire i ticket\, gli interventi\, il rendimento degli estintori\, i componenti in scadenza\, il parco macchine\, lo storico degli interventi\, i contratti e la fatturazione. \nSpecifico per la sezione FIRE è la pianificazione nel tempo di risorse e procedure di controllo legate a normative obbligatorie per Legge. \n  \nScopri di più nel webinar gratuito\nVENERDI’ 17 NOVEMBRE alle ore 11:30\nIscriviti qui
URL:https://www.edc.it/evento/edc-fire-gestione-dellassistenza-tecnica/
LOCATION:GoTo Webinar
CATEGORIES:EDC FIRE,Eventi 2023
ATTACH;FMTTYPE=image/jpeg:https://www.edc.it/wp-content/uploads/2017/07/edc-fire-software-gestionale-ditte-installazione-manutenzione-estintori-impianti-antincendio.jpg
ORGANIZER;CN="Gruppo EDC":MAILTO:info@edc.it
END:VEVENT
BEGIN:VEVENT
DTSTART;TZID=Europe/Rome:20230421T113000
DTEND;TZID=Europe/Rome:20230421T123000
DTSTAMP:20260421T121017
CREATED:20220902T123148Z
LAST-MODIFIED:20230421T141121Z
UID:6451-1682076600-1682080200@www.edc.it
SUMMARY:EDC FIRE software per l'assistenza tecnica su impianti di antincendio
DESCRIPTION:EDC FIRE:\nIl software ideato per migliorare la gestione degli impianti di antincendio\n  Il software gestionale destinato a tutte quelle aziende che si occupano della vendita\, del noleggio e dell’ assistenza tecnica di estintori e di impianti antincendio. \nCon EDC FIRE è possibile gestire il rendimento degli estintori\, avere pieno controllo dei componenti in scadenza\, pianificare nel tempo risorse e procedure di controllo legate a normative obbligatorie per Legge\, avere sempre sotto controllo la situazione aggiornata del parco macchine e disporre dello storico dettagliato degli interventi mediante il diario estintori e gli indici di rischio. \nGuarda qui la registrazione!
URL:https://www.edc.it/evento/edc-fire-software-per-lassistenza-tecnica-su-impianti-di-antincendio/
LOCATION:GoTo Webinar
CATEGORIES:EDC FIRE,Eventi 2022
ORGANIZER;CN="Gruppo EDC":MAILTO:info@edc.it
END:VEVENT
BEGIN:VEVENT
DTSTART;TZID=Europe/Rome:20211110T103000
DTEND;TZID=Europe/Rome:20211110T113000
DTSTAMP:20260421T121017
CREATED:20211027T152312Z
LAST-MODIFIED:20220223T111711Z
UID:4740-1636540200-1636543800@www.edc.it
SUMMARY:EDC FIRE: Il software ideato per migliorare la gestione degli impianti di antincendio
DESCRIPTION:Contenuto protetto.
URL:https://www.edc.it/evento/edc-fire-il-software-ideato-per-migliorare-la-gestione-degli-impianti-di-antincendio/
CATEGORIES:EDC FIRE,Eventi Passati
END:VEVENT
BEGIN:VEVENT
DTSTART;TZID=Europe/Rome:20210225T100000
DTEND;TZID=Europe/Rome:20210225T100000
DTSTAMP:20260421T121017
CREATED:20210208T110151Z
LAST-MODIFIED:20210208T110151Z
UID:5503-1614247200-1614247200@www.edc.it
SUMMARY:EDC FIRE - Demo presentazione software
DESCRIPTION:Il software gestionale destinato a tutte quelle aziende che si occupano della vendita\, del noleggio e della manutenzione di estintori e di impianti antincendio.  \n  \n\n\n\n\n\n\n\n\n\n\n\nCon EDC Fire è possibile \n\nGestire il rendimento degli estintori\nAvere pieno controllo dei componenti in scadenza\nPianificare nel tempo risorse e procedure di controllo legate a normative obbligatorie per Legge\nAvere sempre sotto controllo la situazione aggiornata del parco macchine\nDisporre dello storico dettagliato degli interventi mediante il diario estintori e gli indici di rischio.\n\n\n\n\n\nSCOPRI MOLTO DI PIU \, SEGUI LA DEMO ONLINE \nISCRIVITI
URL:https://www.edc.it/evento/edc-fire-demo-presentazione-software-2/
CATEGORIES:EDC FIRE,Eventi Passati
ATTACH;FMTTYPE=image/png:https://www.edc.it/wp-content/uploads/2021/02/fire.png
END:VEVENT
BEGIN:VEVENT
DTSTART;TZID=Europe/Rome:20210225T100000
DTEND;TZID=Europe/Rome:20210225T100000
DTSTAMP:20260421T121017
CREATED:20210208T110151Z
LAST-MODIFIED:20210208T110151Z
UID:4191-1614247200-1614247200@www.edc.it
SUMMARY:EDC FIRE - Demo presentazione software
DESCRIPTION:Il software gestionale destinato a tutte quelle aziende che si occupano della vendita\, del noleggio e della manutenzione di estintori e di impianti antincendio.  \n  \n\n\n\n\n\n\n\n\n\n\n\nCon EDC Fire è possibile \n\nGestire il rendimento degli estintori\nAvere pieno controllo dei componenti in scadenza\nPianificare nel tempo risorse e procedure di controllo legate a normative obbligatorie per Legge\nAvere sempre sotto controllo la situazione aggiornata del parco macchine\nDisporre dello storico dettagliato degli interventi mediante il diario estintori e gli indici di rischio.\n\n\n\n\n\nSCOPRI MOLTO DI PIU \, SEGUI LA DEMO ONLINE \nISCRIVITI
URL:https://www.edc.it/evento/edc-fire-demo-presentazione-software/
CATEGORIES:EDC FIRE,Eventi Passati
ATTACH;FMTTYPE=image/png:https://www.edc.it/wp-content/uploads/2021/02/fire.png
END:VEVENT
END:VCALENDAR