BEGIN:VCALENDAR
VERSION:2.0
PRODID:-//Gruppo EDC - ECPv6.15.17.1//NONSGML v1.0//EN
CALSCALE:GREGORIAN
METHOD:PUBLISH
X-ORIGINAL-URL:https://www.edc.it
X-WR-CALDESC:Eventi per Gruppo EDC
REFRESH-INTERVAL;VALUE=DURATION:PT1H
X-Robots-Tag:noindex
X-PUBLISHED-TTL:PT1H
BEGIN:VTIMEZONE
TZID:Europe/Rome
BEGIN:DAYLIGHT
TZOFFSETFROM:+0100
TZOFFSETTO:+0200
TZNAME:CEST
DTSTART:20240331T010000
END:DAYLIGHT
BEGIN:STANDARD
TZOFFSETFROM:+0200
TZOFFSETTO:+0100
TZNAME:CET
DTSTART:20241027T010000
END:STANDARD
BEGIN:DAYLIGHT
TZOFFSETFROM:+0100
TZOFFSETTO:+0200
TZNAME:CEST
DTSTART:20250330T010000
END:DAYLIGHT
BEGIN:STANDARD
TZOFFSETFROM:+0200
TZOFFSETTO:+0100
TZNAME:CET
DTSTART:20251026T010000
END:STANDARD
BEGIN:DAYLIGHT
TZOFFSETFROM:+0100
TZOFFSETTO:+0200
TZNAME:CEST
DTSTART:20260329T010000
END:DAYLIGHT
BEGIN:STANDARD
TZOFFSETFROM:+0200
TZOFFSETTO:+0100
TZNAME:CET
DTSTART:20261025T010000
END:STANDARD
END:VTIMEZONE
BEGIN:VEVENT
DTSTART;TZID=Europe/Rome:20251113T103000
DTEND;TZID=Europe/Rome:20251113T113000
DTSTAMP:20260421T173331
CREATED:20250904T075855Z
LAST-MODIFIED:20250904T084214Z
UID:8027-1763029800-1763033400@www.edc.it
SUMMARY:Edc Carrelli: Innovazione in Movimento
DESCRIPTION:Partecipa all’evento gratuito\, ti mostreremo come funziona e come è strutturato il nostro software verticale Edc Carrelli. \nSoftware gestionale realizzato per tutte quelle aziende che effettuano assistenza tecnica\, noleggio e vendita di carrelli elevatori e piattaforme aeree. \nLa struttura di EDC CARRELLI è modulare e flessibile\, permettendo ad ogni tipo di azienda di personalizzare il prodotto in base alle proprie esigenze\, scegliendo tra i vari moduli presenti in esso. \nGIOVEDI’ 13 Novembre alle ore 10:30\nIscriviti qui
URL:https://www.edc.it/evento/edc-carrelli-innovazione-in-movimento/
CATEGORIES:EDC CARRELLI,Eventi 2025
ATTACH;FMTTYPE=image/png:https://www.edc.it/wp-content/uploads/2025/04/carrelli.png
END:VEVENT
END:VCALENDAR