BEGIN:VCALENDAR
VERSION:2.0
PRODID:-//Gruppo EDC - ECPv6.15.17.1//NONSGML v1.0//EN
CALSCALE:GREGORIAN
METHOD:PUBLISH
X-WR-CALNAME:Gruppo EDC
X-ORIGINAL-URL:https://www.edc.it
X-WR-CALDESC:Eventi per Gruppo EDC
REFRESH-INTERVAL;VALUE=DURATION:PT1H
X-Robots-Tag:noindex
X-PUBLISHED-TTL:PT1H
BEGIN:VTIMEZONE
TZID:Europe/Rome
BEGIN:DAYLIGHT
TZOFFSETFROM:+0100
TZOFFSETTO:+0200
TZNAME:CEST
DTSTART:20200329T010000
END:DAYLIGHT
BEGIN:STANDARD
TZOFFSETFROM:+0200
TZOFFSETTO:+0100
TZNAME:CET
DTSTART:20201025T010000
END:STANDARD
BEGIN:DAYLIGHT
TZOFFSETFROM:+0100
TZOFFSETTO:+0200
TZNAME:CEST
DTSTART:20210328T010000
END:DAYLIGHT
BEGIN:STANDARD
TZOFFSETFROM:+0200
TZOFFSETTO:+0100
TZNAME:CET
DTSTART:20211031T010000
END:STANDARD
BEGIN:DAYLIGHT
TZOFFSETFROM:+0100
TZOFFSETTO:+0200
TZNAME:CEST
DTSTART:20220327T010000
END:DAYLIGHT
BEGIN:STANDARD
TZOFFSETFROM:+0200
TZOFFSETTO:+0100
TZNAME:CET
DTSTART:20221030T010000
END:STANDARD
BEGIN:DAYLIGHT
TZOFFSETFROM:+0100
TZOFFSETTO:+0200
TZNAME:CEST
DTSTART:20230326T010000
END:DAYLIGHT
BEGIN:STANDARD
TZOFFSETFROM:+0200
TZOFFSETTO:+0100
TZNAME:CET
DTSTART:20231029T010000
END:STANDARD
BEGIN:DAYLIGHT
TZOFFSETFROM:+0100
TZOFFSETTO:+0200
TZNAME:CEST
DTSTART:20240331T010000
END:DAYLIGHT
BEGIN:STANDARD
TZOFFSETFROM:+0200
TZOFFSETTO:+0100
TZNAME:CET
DTSTART:20241027T010000
END:STANDARD
BEGIN:DAYLIGHT
TZOFFSETFROM:+0100
TZOFFSETTO:+0200
TZNAME:CEST
DTSTART:20250330T010000
END:DAYLIGHT
BEGIN:STANDARD
TZOFFSETFROM:+0200
TZOFFSETTO:+0100
TZNAME:CET
DTSTART:20251026T010000
END:STANDARD
END:VTIMEZONE
BEGIN:VEVENT
DTSTART;TZID=Europe/Rome:20240222T100000
DTEND;TZID=Europe/Rome:20240222T170000
DTSTAMP:20260421T103821
CREATED:20240129T075800Z
LAST-MODIFIED:20240207T111248Z
UID:7257-1708596000-1708621200@www.edc.it
SUMMARY:Webinar Day
DESCRIPTION:WEBINAR DAY\nPartecipa al nostro Webinar Day\, dove scoprirai le ultime novità in materia di Fatturazione elettronica\, Conservazione digitale delle fatture\, Digital CFO\, Backup e sicurezza aziendale\, il tutto diviso in piccoli appuntamenti durante la giornata!\n  \nFATTURAZIONE ELETTRONICA E CONSERVAZIONE DIGITALE\nLa Fatturazione Elettronica e la Conservazione Digitale dei documenti sono obblighi importanti per tutte le aziende!  Con i software Zucchetti\, questi obblighi diventano semplici e veloci da seguire e agevolano il lavoro.  \nPartecipa al webinar e scopri tutte le novità di questi servizi per essere sempre in regola!! \nGIOVEDI’ 22 FEBBRAIO dalle ore 10:00 alle 11:00 \nISCRIVITI AL WEBINAR \n  \n  \nDIGITAL CFO\n\n\n\n\n\n\nIl  Codice della crisi d’impresa e dell’insolvenza 2019\, ha introdotto procedure obbligatorie di allerta e di composizione assistita\, finalizzate ad anticipare l’emersione dello stato di crisi aziendale. Il sistema di allerta è incentrato su alcuni indicatori atti a rilevare squilibri di carattere reddituale\, patrimoniale o finanziario ed è obbligatorio per legge per tutte le imprese. \n\n\n\n\nDIGITAL CFO è il servizio web con tutti i vantaggi del cloud. Semplice ad automatico è il servizio più veloce per monitorare la salute aziendale come previsto dal nuovo codice D.lgs 83/2022. \nGOVEDI’ 22 FEBBRAIO dalle ore 11:30 alle ore 12:30 \nISCRVITI AL WEBINAR \n\n\n \n \nSICUREZZA AZIENDALE – BACK UP ONLINE\nIl servizio di  Back up  offre tecnologie all’avanguardia per la difesa da attacchi  da virus e crea periodicamente immagini della macchina inviate poi nel cloud per una maggiore sicurezza.  Con il nostro Back up puoi ripristinare il gestionale aziendale rapidamente e dare continuità operativa aziendale.  \nIl vostro gestionale è sottoposto a regolare backup? \nQualsiasi sia la risposta\,  iscriviti alla diretta webinar per approfondire e scoprire sempre di più.  \nGIOVEDI’ 22 FEBBRAIO dalle ore 16:00 alle ore 17:00 \nISCRIVITI AL WEBINAR
URL:https://www.edc.it/evento/webinar-day/
LOCATION:GoTo Webinar
CATEGORIES:BACKUP & SICUREZZA,CONSERVAZIONE DIGITALE,DIGITAL CFO,Eventi 2024
ATTACH;FMTTYPE=image/jpeg:https://www.edc.it/wp-content/uploads/2024/01/webinar.jpg
ORGANIZER;CN="Gruppo EDC":MAILTO:info@edc.it
END:VEVENT
BEGIN:VEVENT
DTSTART;TZID=Europe/Rome:20220629T110000
DTEND;TZID=Europe/Rome:20220629T120000
DTSTAMP:20260421T103821
CREATED:20220606T122432Z
LAST-MODIFIED:20220707T143411Z
UID:6223-1656500400-1656504000@www.edc.it
SUMMARY:Guarda qui il video - Presentazione DIGITAL CFO
DESCRIPTION:DIGITAL CFO\nObbligo sulla crisi d’impresa\nDa LUGLIO 2022 ci sarà l’ OBBLIGO di adeguare gli assetti secondo la legge ANTI CRISI per tutte le IMPRESE! \nL’obbligo riguarda tutte le aziende. E’ necessario iniziare a produrre documentazione periodica dal 14/07/2022 \nIn caso di mancata vigilanza sono previste pesanti sanzioni. Un esempio? Gli amministratori risponderanno in solido dei debiti dell’azienda verso terzi. \nDIGITAL CFO è il servizio web con tutti i vantaggi del cloud. Semplice ad automatico è il servizio più veloce per monitorare la salute aziendale come previsto dal nuovo codice. \nCarica le informazioni necessarie importando i documenti richiesti e\, grazie a sofisticati algoritmi\, fornisce l’analisi della situazione economico / finanziaria dell’impresa\, inviando alert automatici in caso di segnali di crisi. \nCLICCA QUI per vedere la registrazione del webinar!
URL:https://www.edc.it/evento/presentazione-digital-cfo/
CATEGORIES:DIGITAL CFO,Eventi 2022
ATTACH;FMTTYPE=image/jpeg:https://www.edc.it/wp-content/uploads/2022/06/FLUSSI_FINANZIARI.jpg
ORGANIZER;CN="Gruppo EDC":MAILTO:info@edc.it
END:VEVENT
BEGIN:VEVENT
DTSTART;TZID=Europe/Rome:20210407T110000
DTEND;TZID=Europe/Rome:20210407T123000
DTSTAMP:20260421T103821
CREATED:20210331T150722Z
LAST-MODIFIED:20210331T150722Z
UID:4308-1617793200-1617798600@www.edc.it
SUMMARY:Webinar Gratuito - Digital CFO - Evento Mensile
DESCRIPTION:PER TUTTO IL MESE DI APRILE\, SCEGLI LA TUA DATA\n  \n\n\nDigital CFO è uno strumento essenziale per mettere in regola le aziende con gli adempimenti previsti dal nuovo codice sulla crisi d’impresa: monitora in tempo reale i parametri patrimoniali\, economico e finanziari dell’azienda e ti avvisa\, con degli alert specifici\, in caso si verifichino situazioni di possibile crisi aziendale per gestirla ed evitarla in tempo utile. \n\nDigital CFO aiuta ad assolvere l’obbligo di legge che da 19/03/2019 impone la verifica delle condizioni di continuità aziendale\, evitando che amministratori e imprenditori rispondano con il loro patrimonio personale per i debiti aziendali. \n\n\n\n\nUN OBBLIGO PER TUTTE LE AZIENDE\n\nIl Codice della crisi d’impresa e dell’insolvenza 2019 (D.L. n. 14 del 12 gennaio 2019)\, ha introdotto l’obbligatorietà dal 16 Marzo 2019 per tutte le aziende di dotarsi di procedure di allerta finalizzate ad anticipare l’emersione di eventuali sintomi di crisi aziendale \nScelto da Union Camere\, questo software Zucchetti\, verrà utilizzato dalle Camere di Commercio di tutta Italia. \n\n\n\n\n\n\n\nUN’OPPORTUNITÀ DI CONSULENZA PER PROFESSIONISTI E ASSOCIAZIONI\n\nL’obbligo riguarda tutte le tipologie d’imprese\, sia di persone che di capitali\, e di qualsiasi dimensione. La complessità e l’urgenza del problema che le aziende si trovano a dover fronteggiare fa sì che queste si trovino sprovviste degli strumenti e delle competenze necessarie per assolvere l’obbligo di legge. Nasce così l’opportunità di offrire nuovi servizi di consulenza\, di fidelizzare le aziende clienti\, proteggerle dal rischio \n\n\n\nTUTTO SOTTO CONTROLLO\, SEMPRE!\nCon Digital CFO il monitoraggio avviene in modo semplice\, veloce e automatico. \n\n\n\n\nÈ sufficiente importare i file in formato PDF della Centrale dei Rischi\, i bilanci e inserire poche informazioni di natura qualitativa dell’azienda.\n\n\n\n\nIl software tramite sofisticati algoritmi restituisce in automatico l’analisi finanziaria delle aziende e\, in caso di anomalie\, le segnala in tempo reale ai clienti tramite un’apposita App per smartphone e tablet.\n\n\n\n\nOgni analisi è esportabile in formato pdf e certificata attraverso l’apposizione di una firma elettronica con riferimento temporale per eventuali opposizioni in giudizio e in caso di procedure concorsuali.\n\n\n\n\n\n\n\n\n\n\n\n\n\n\n\n\n\nScopri come DigitalCFO aiuta ad adempiere agli obblighi del nuovo Codice sulla Crisi d’Impresa\, protegge gli amministratori dalla responsabilità solidale verso i creditori aziendali e migliora il rapporto banca-impresa.\n\n[formidable id=”7″]
URL:https://www.edc.it/evento/webinar-gratuito-digital-cfo-evento-mensile/
CATEGORIES:DIGITAL CFO,Eventi Passati
ATTACH;FMTTYPE=image/png:https://www.edc.it/wp-content/uploads/2019/08/digital-cfo.png
END:VEVENT
BEGIN:VEVENT
DTSTART;TZID=Europe/Rome:20210407T110000
DTEND;TZID=Europe/Rome:20210407T123000
DTSTAMP:20260421T103821
CREATED:20210331T150722Z
LAST-MODIFIED:20210331T150722Z
UID:5513-1617793200-1617798600@www.edc.it
SUMMARY:Webinar Gratuito - Digital CFO - Evento Mensile
DESCRIPTION:PER TUTTO IL MESE DI APRILE\, SCEGLI LA TUA DATA\n  \n\n\nDigital CFO è uno strumento essenziale per mettere in regola le aziende con gli adempimenti previsti dal nuovo codice sulla crisi d’impresa: monitora in tempo reale i parametri patrimoniali\, economico e finanziari dell’azienda e ti avvisa\, con degli alert specifici\, in caso si verifichino situazioni di possibile crisi aziendale per gestirla ed evitarla in tempo utile. \n\nDigital CFO aiuta ad assolvere l’obbligo di legge che da 19/03/2019 impone la verifica delle condizioni di continuità aziendale\, evitando che amministratori e imprenditori rispondano con il loro patrimonio personale per i debiti aziendali. \n\n\n\n\nUN OBBLIGO PER TUTTE LE AZIENDE\n\nIl Codice della crisi d’impresa e dell’insolvenza 2019 (D.L. n. 14 del 12 gennaio 2019)\, ha introdotto l’obbligatorietà dal 16 Marzo 2019 per tutte le aziende di dotarsi di procedure di allerta finalizzate ad anticipare l’emersione di eventuali sintomi di crisi aziendale \nScelto da Union Camere\, questo software Zucchetti\, verrà utilizzato dalle Camere di Commercio di tutta Italia. \n\n\n\n\n\n\n\nUN’OPPORTUNITÀ DI CONSULENZA PER PROFESSIONISTI E ASSOCIAZIONI\n\nL’obbligo riguarda tutte le tipologie d’imprese\, sia di persone che di capitali\, e di qualsiasi dimensione. La complessità e l’urgenza del problema che le aziende si trovano a dover fronteggiare fa sì che queste si trovino sprovviste degli strumenti e delle competenze necessarie per assolvere l’obbligo di legge. Nasce così l’opportunità di offrire nuovi servizi di consulenza\, di fidelizzare le aziende clienti\, proteggerle dal rischio \n\n\n\nTUTTO SOTTO CONTROLLO\, SEMPRE!\nCon Digital CFO il monitoraggio avviene in modo semplice\, veloce e automatico. \n\n\n\n\nÈ sufficiente importare i file in formato PDF della Centrale dei Rischi\, i bilanci e inserire poche informazioni di natura qualitativa dell’azienda.\n\n\n\n\nIl software tramite sofisticati algoritmi restituisce in automatico l’analisi finanziaria delle aziende e\, in caso di anomalie\, le segnala in tempo reale ai clienti tramite un’apposita App per smartphone e tablet.\n\n\n\n\nOgni analisi è esportabile in formato pdf e certificata attraverso l’apposizione di una firma elettronica con riferimento temporale per eventuali opposizioni in giudizio e in caso di procedure concorsuali.\n\n\n\n\n\n\n\n\n\n\n\n\n\n\n\n\n\nScopri come DigitalCFO aiuta ad adempiere agli obblighi del nuovo Codice sulla Crisi d’Impresa\, protegge gli amministratori dalla responsabilità solidale verso i creditori aziendali e migliora il rapporto banca-impresa.\n\n[formidable id=”7″]
URL:https://www.edc.it/evento/webinar-gratuito-digital-cfo-evento-mensile-2/
CATEGORIES:DIGITAL CFO,Eventi Passati
ATTACH;FMTTYPE=image/png:https://www.edc.it/wp-content/uploads/2019/08/digital-cfo.png
END:VEVENT
END:VCALENDAR