BEGIN:VCALENDAR
VERSION:2.0
PRODID:-//Gruppo EDC - ECPv6.15.17.1//NONSGML v1.0//EN
CALSCALE:GREGORIAN
METHOD:PUBLISH
X-ORIGINAL-URL:https://www.edc.it
X-WR-CALDESC:Eventi per Gruppo EDC
REFRESH-INTERVAL;VALUE=DURATION:PT1H
X-Robots-Tag:noindex
X-PUBLISHED-TTL:PT1H
BEGIN:VTIMEZONE
TZID:Europe/Rome
BEGIN:DAYLIGHT
TZOFFSETFROM:+0100
TZOFFSETTO:+0200
TZNAME:CEST
DTSTART:20250330T010000
END:DAYLIGHT
BEGIN:STANDARD
TZOFFSETFROM:+0200
TZOFFSETTO:+0100
TZNAME:CET
DTSTART:20251026T010000
END:STANDARD
BEGIN:DAYLIGHT
TZOFFSETFROM:+0100
TZOFFSETTO:+0200
TZNAME:CEST
DTSTART:20260329T010000
END:DAYLIGHT
BEGIN:STANDARD
TZOFFSETFROM:+0200
TZOFFSETTO:+0100
TZNAME:CET
DTSTART:20261025T010000
END:STANDARD
BEGIN:DAYLIGHT
TZOFFSETFROM:+0100
TZOFFSETTO:+0200
TZNAME:CEST
DTSTART:20270328T010000
END:DAYLIGHT
BEGIN:STANDARD
TZOFFSETFROM:+0200
TZOFFSETTO:+0100
TZNAME:CET
DTSTART:20271031T010000
END:STANDARD
END:VTIMEZONE
BEGIN:VEVENT
DTSTART;TZID=Europe/Rome:20260205T110000
DTEND;TZID=Europe/Rome:20260205T120000
DTSTAMP:20260421T184824
CREATED:20260115T100000Z
LAST-MODIFIED:20260115T145039Z
UID:8101-1770289200-1770292800@www.edc.it
SUMMARY:Archiviazione Documentale smart: Riduci costi\, aumenta produttività
DESCRIPTION:ARCHIVIAMO I DOCUMENTI FISCALI IN DIGITALE\nRisparmiamo tempo\, denaro… e aiutiamo anche l’ambiente. \nDurante l’evento parleremo di un progetto concreto articolato in due fasi: \n\nArchiviazione digitale di tutti i documenti fiscali (ciclo attivo e passivo\, conservazione\, conformità normativa)\nEstensione al resto della documentazione aziendale (contratti\, corrispondenza\, ordini\, allegati tecnici\, ecc.)\n\n\nGIOVEDI’ 05 Febbraio alle ore 11:00 \nParleremo di risparmio di tempo e spazi fisici\, vantaggi economici e operativi\, riduzione dell’uso di carta e toner e di soluzioni tecniche semplici\, scalabili\, già disponibili \nTi aspettiamo! Iscriverti al webinar gratuito \nIscriviti qui
URL:https://www.edc.it/evento/archiviazione-documentale-smart-riduci-costi-aumenta-produttivita/
CATEGORIES:Eventi 2026
ATTACH;FMTTYPE=image/png:https://www.edc.it/wp-content/uploads/2025/04/COPERTINE-SITO-8.png
END:VEVENT
END:VCALENDAR